BEGIN:VCALENDAR
VERSION:2.0
PRODID:-//ChamberMaster//Event Calendar 2.0//EN
METHOD:PUBLISH
X-PUBLISHED-TTL:P3D
REFRESH-INTERVAL:P3D
CALSCALE:GREGORIAN
BEGIN:VEVENT
DTSTART:20120328T153000Z
DTEND:20120329T043000Z
X-MICROSOFT-CDO-ALLDAYEVENT:FALSE
SUMMARY:1 Key Confronts 7 Reasons Why Small Businesses Struggle in Any Economy
DESCRIPTION:It starts with a great idea or hobby\, and then propels us into starting a business. We find a great location\, revolutionize our product\, guarantee services\, and know we are going to be successful.\n\n\n\nUnfortunately\, no matter what we do to prepare ourselves\, once we are in business we find out the world is trying to do everything it can to shut us down. I will be going over the 7 unknown reasons why small businesses struggle and how to defend against the continuous assault.\n\n\n\nYou'll Learn...\n\n\n\nAbout your employee: Architect or Demolition Expert\n\nTips to unclog your pipeline and fix the Cash Flow\n\nTime: 5 Big 'F's' and the 1 'I' wasting it\n\nThe big event: Who are you betting on\, David or Goliath\n\nWhich race are you in: Marathon or Sprint\n\nDay in the park: Amusement or National\n\nThe Key that connects them all\n\n\n\nAbout Trevor Mickelson\n\n\n\nTrevor has gained a tremendous amount of unique experience with small businesses throughout the years. From a young age\, Trevor has been involved with small businesses as a laborer\, manager\, and promoter of the small business sector. In 2009\, Trevor took fate into his own hands\, threw his pride to the wind and became self-employed. Since then\, his uncanny ability to ask 'why\,' adapt\, and ask 'why' again has led him to discover the underlying roots that damage the ultimate possibilities for a successful business. Though his approach is simple\, Trevor agrees with Occam's razor\, finding the simplest answer is most often correct. These answers will increase the productivity and profitability of your business.
X-ALT-DESC;FMTTYPE=text/html:<span style="font-size:14px\;">It starts with a great idea or hobby\, and then propels us into starting a business. We find a great location\, revolutionize our product\, guarantee services\, and know we are going to be successful.<br />\n<br />\nUnfortunately\, no matter what we do to prepare ourselves\, once we are in business we find out the world is trying to do everything it can to shut us down. I will be going over the 7 unknown reasons why small businesses struggle and how to defend against the continuous assault.<br />\n<br />\n<strong>You&#39\;ll Learn...</strong><br />\n<br />\nAbout your employee: Architect or Demolition Expert<br />\nTips to unclog your pipeline and fix the Cash Flow<br />\nTime: 5 Big &#39\;F&#39\;s&#39\; and the 1 &#39\;I&#39\; wasting it<br />\nThe big event: Who are you betting on\, David or Goliath<br />\nWhich race are you in: Marathon or Sprint<br />\nDay in the park: Amusement or National<br />\nThe Key that connects them all<br />\n<br />\n<strong>About Trevor Mickelson</strong><br />\n<br />\nTrevor has gained a tremendous amount of unique experience with small businesses throughout the years. From a young age\, Trevor has been involved with small businesses as a laborer\, manager\, and promoter of the small business sector. In 2009\, Trevor took fate into his own hands\, threw his pride to the wind and became self-employed. Since then\, his uncanny ability to ask &#39\;why\,&#39\; adapt\, and ask &#39\;why&#39\; again has led him to discover the underlying roots that damage the ultimate possibilities for a successful business. Though his approach is simple\, Trevor agrees with Occam&#39\;s razor\, finding the simplest answer is most often correct. These answers will increase the productivity and profitability of your business.</span>
LOCATION:Corporate Office Center: 4643 Ulster Street\, 8th Floor\, Denver\, CO
UID:e.641.3925
SEQUENCE:3
DTSTAMP:20260419T180732Z
URL:http://business.broomfieldchamber.com/events/details/1-key-confronts-7-reasons-why-small-businesses-struggle-in-any-economy-03-28-2012-3925
END:VEVENT

END:VCALENDAR
