BEGIN:VCALENDAR
VERSION:2.0
PRODID:-//ChamberMaster//Event Calendar 2.0//EN
METHOD:PUBLISH
X-PUBLISHED-TTL:P3D
REFRESH-INTERVAL:P3D
CALSCALE:GREGORIAN
BEGIN:VEVENT
DTSTART;VALUE=DATE:20110911
DTEND;VALUE=DATE:20110912
TRANSP:TRANSPARENT
X-MICROSOFT-CDO-ALLDAYEVENT:TRUE
SUMMARY:10th Anniversary Commemorative Concert featuring The Beach Boys
DESCRIPTION:Join Governor John Hickenlooper & Mayor Michael Hancock\n\n	Colorado Remembers 9/11\n\n	10th Anniversary Commemorative Concert \n\n	featuring\n\n	THE BEACH BOYS\, Tyler Ward \n\n	& The Colorado Symphony\n\n	\n\n	***Remembrance Ceremony honoring lives lost & men & women in uniform \n\n	with a military flyover\, taps & firing salute***\n\n	9.11.2011 - FREE admission\n\n	1 pm - Civic Center Park\n\n	 \n\nvisit www.thecell.orgor find us on Facebook: CoRemembers9/11 \nQuestions: call 303-844-4000 ext. 4
X-ALT-DESC;FMTTYPE=text/html:<p style="text-align: center">\n	<span style="font-size: 16px"><strong><span style="font-family: arial\, sans-serif">Join Governor John Hickenlooper &amp\; Mayor Michael Hancock</span></strong><br />\n	<strong><span style="color: #002060"><span style="font-family: arial\, sans-serif">Colorado Remembers 9/11</span></span></strong><br />\n	<strong><em><span style="color: #002060"><span style="font-family: arial\, sans-serif">10th Anniversary Commemorative Concert </span></span></em></strong><br />\n	<strong><span style="font-family: arial\, sans-serif">featuring</span></strong><br />\n	<strong><span style="color: #cc0000"><span style="font-family: arial\, sans-serif">THE BEACH BOYS\, Tyler Ward </span></span></strong><br />\n	<strong><span style="color: #cc0000"><span style="font-family: arial\, sans-serif">&amp\; The Colorado Symphony</span></span></strong><br />\n	<br />\n	<strong><span style="color: #002060"><span style="font-family: arial\, sans-serif">***Remembrance Ceremony </span></span></strong><strong><span style="color: #002060"><span style="font-family: arial\, sans-serif">honoring lives lost &amp\; men &amp\; women in uniform </span></span></strong><br />\n	<strong><span style="color: #002060"><span style="font-family: arial\, sans-serif">with a military flyover\, taps &amp\; firing salute***</span></span></strong><br />\n	<strong><span style="color: red"><span style="font-family: arial\, sans-serif">9.11.2011 - </span></span></strong><strong><u><span style="color: #0070c0"><span style="font-family: arial\, sans-serif">FREE admission</span></span></u></strong><br />\n	<strong><span style="color: red"><span style="font-family: arial\, sans-serif">1 pm - Civic Center Park</span></span></strong></span><br />\n	&nbsp\;</p>\n<pre style="text-align: center">\n<span style="font-size: 16px"><strong><span style="color: red"><span style="font-family: arial\, sans-serif">visit <a href="http://www.thecell.org/"><span style="color: #0000ff">www.thecell.org</span></a></span></span></strong><span style="color: red"><span style="font-family: arial\, sans-serif">or find us on Facebook: CoRemembers9/11 </span></span>\n<span style="font-family: arial\, sans-serif"><strong>Questions: call 303-844-4000 ext. 4</strong></span>\n</span></pre>\n<pre style="text-align: center">\n&nbsp\;\n</pre>\n
LOCATION:Civic Park Center 100 W 14th Ave Pkwy Denver\, CO 80204
UID:e.641.2886
SEQUENCE:3
DTSTAMP:20260420T022457Z
URL:http://business.broomfieldchamber.com/events/details/10th-anniversary-commemorative-concert-featuring-the-beach-boys-09-11-2011-2886
END:VEVENT

END:VCALENDAR
