BEGIN:VCALENDAR
VERSION:2.0
PRODID:-//ChamberMaster//Event Calendar 2.0//EN
METHOD:PUBLISH
X-PUBLISHED-TTL:P3D
REFRESH-INTERVAL:P3D
CALSCALE:GREGORIAN
BEGIN:VEVENT
DTSTART:20120523T130000Z
DTEND:20120523T200000Z
X-MICROSOFT-CDO-ALLDAYEVENT:FALSE
SUMMARY:10th Annual CASA Classic Golf Tournament
DESCRIPTION:Look forward to 4-Man\, 4-Woman\, 4-Person Co-Ed Scramble. Try your luck at Closest to the Pin\, Longest Drive\, Hole-in-One Contest.\n\n\n\n100% of Proceeds benefit CASA and Adams & Broomfield Counties.
X-ALT-DESC;FMTTYPE=text/html:<span style="font-size: 14px"><span style="font-family: verdana">Look forward to 4-Man\, 4-Woman\, 4-Person Co-Ed Scramble. Try your luck at Closest to the Pin\, Longest Drive\, Hole-in-One Contest.<br />\n<br />\n100% of Proceeds benefit CASA and Adams &amp\;&nbsp\;Broomfield Counties.</span></span>
LOCATION:Hyland Hills Golf Course\, Westminster\, CO
UID:e.641.4157
SEQUENCE:3
DTSTAMP:20260419T162337Z
URL:http://business.broomfieldchamber.com/events/details/10th-annual-casa-classic-golf-tournament-05-23-2012-4157
END:VEVENT

END:VCALENDAR
