BEGIN:VCALENDAR
VERSION:2.0
PRODID:-//ChamberMaster//Event Calendar 2.0//EN
METHOD:PUBLISH
X-PUBLISHED-TTL:P3D
REFRESH-INTERVAL:P3D
CALSCALE:GREGORIAN
BEGIN:VEVENT
DTSTART;VALUE=DATE:20110219
DTEND;VALUE=DATE:20110220
TRANSP:TRANSPARENT
X-MICROSOFT-CDO-ALLDAYEVENT:TRUE
SUMMARY:12 Hour Sale! at Anytime Fitness
DESCRIPTION:12 Hour Sale!\n\n-Enrollment is just $1\n\n-Free Group Training Demos at 10am\, 12pm\, & 2pm\n\n-Free Aqua Massage Session\n\n-Free Anytime Health Subscription\n\n-Free Personal Training Consulation
X-ALT-DESC;FMTTYPE=text/html:12 Hour Sale!\n<br>-Enrollment is just $1\n<br>-Free Group Training Demos at 10am\, 12pm\, &amp\; 2pm\n<br>-Free Aqua Massage Session\n<br>-Free Anytime Health Subscription\n<br>-Free Personal Training Consulation
LOCATION:Anytime Fitness 1100 US HWY 287 Suite 1400 Broomfield\, CO 80020
UID:e.641.1355
SEQUENCE:3
DTSTAMP:20260420T144328Z
URL:http://business.broomfieldchamber.com/events/details/12-hour-sale-at-anytime-fitness-02-19-2011-1355
END:VEVENT

END:VCALENDAR
