BEGIN:VCALENDAR
VERSION:2.0
PRODID:-//ChamberMaster//Event Calendar 2.0//EN
METHOD:PUBLISH
X-PUBLISHED-TTL:P3D
REFRESH-INTERVAL:P3D
CALSCALE:GREGORIAN
BEGIN:VEVENT
DTSTART:20110806T130000Z
DTEND:20110807T020000Z
X-MICROSOFT-CDO-ALLDAYEVENT:FALSE
SUMMARY:1st Annual Nathan Beyers Memorial Golf Outing & Fundraiser
DESCRIPTION:As many of you know\, Tim Beyers is the Superintendent of Greenway Park and through his incredible work ethic and commitment he has had an amazing and positive effect on the community grounds and golf course operations. Sadly\, we must inform you that Tim and his family have suffered a terrible and grievous loss of their oldest son Nathan. As a result\, we wish to honor Nathan Beyers - Specialist of the 116th Cavalry Brigade Combat Team\, who was killed in the line of duty while serving our country in Iraq on July 7th 2011. \n\n	\n\n	Greenway Park Golf Course and Community will be hosting The 1st Annual Nathan Beyers Memorial Golf Outing & Fundraiser. 100% of all greens fees and other proceeds from this event will be donated to help Nathan's family. Nathan is survived by his wife Vanessa and their beautiful 8 month old daughter Ella\; his parents Tim & Sonja Beyers and Natalie & Brian Bittner\; and his brother\, Tyler Beyers.\n\n	\n\n	Contact Greenway Park Golf Course to reserve your tee time by 7/23!\n\n	\n\n	THERE'S SOMETHING FOR EVERYONE!\n\n	\n\n	For individuals not golfing\, we encourage your\n\n	support! Stop by to enjoy FOOD & DRINK\n\n	& PRIZE DRAWINGS!\n\n	\n\n	ALSO ACCEPTING DONATIONS:\n\n	Please make checks payable to:\n\n	NATHAN BEYERS MEMORIAL c/o Greenway Park Golf Course\n\n	110 Greenway Drive Broomfield\, CO 80020-6932\n\n	Donations can be made at any US Bank location Acct#10367999712\n\n	\n\n	QUESTIONS? contact Rachelle Moschetti\n\n	email: queenofsparkles@comcast.net   phone: 303-915-1107
X-ALT-DESC;FMTTYPE=text/html:<p align="left">\n	<span style="font-size: 12px"><font face="OptimaLTStd"><font face="OptimaLTStd">As many of you know\, Tim Beyers is the </font></font><font face="OptimaLTStd"><font face="OptimaLTStd">Superintendent of Greenway Park and through his </font></font><font face="OptimaLTStd"><font face="OptimaLTStd">incredible work ethic and commitment he has </font></font><font face="OptimaLTStd"><font face="OptimaLTStd">had an amazing and positive effect on the </font></font><font face="OptimaLTStd"><font face="OptimaLTStd">community grounds and golf course operations. </font></font><font face="OptimaLTStd"><font face="OptimaLTStd">Sadly\, we must inform you that Tim and his </font></font><font face="OptimaLTStd"><font face="OptimaLTStd">family have suffered a terrible and grievous loss </font></font><font face="OptimaLTStd"><font face="OptimaLTStd">of their oldest son Nathan. </font></font><font face="OptimaLTStd"><font face="OptimaLTStd">As a result\, we wish to honor Nathan Beyers - </font></font><font face="OptimaLTStd"><font face="OptimaLTStd">Specialist of the 116th Cavalry Brigade Combat </font></font><font face="OptimaLTStd"><font face="OptimaLTStd">Team\, who was killed in the line of duty while </font></font><font face="OptimaLTStd"><font face="OptimaLTStd">serving our country in Iraq on July 7th 2011. </font></font><br />\n	<br />\n	<font face="OptimaLTStd"><font face="OptimaLTStd">Greenway Park Golf Course and Community will </font></font><font face="OptimaLTStd"><font face="OptimaLTStd">be hosting The 1st Annual Nathan Beyers </font></font><font face="OptimaLTStd"><font face="OptimaLTStd">Memorial Golf Outing &amp\; Fundraiser. </font></font><font face="OptimaLTStd"><font face="OptimaLTStd">100% of all greens fees and other proceeds </font></font><font face="OptimaLTStd"><font face="OptimaLTStd">from this event will be donated to </font></font><font face="OptimaLTStd"><font face="OptimaLTStd">help Nathan&rsquo\;s family. </font></font><font face="OptimaLTStd"><font face="OptimaLTStd">Nathan is survived by </font></font><font face="OptimaLTStd"><font face="OptimaLTStd">his wife Vanessa </font></font><font face="OptimaLTStd"><font face="OptimaLTStd">and their beautiful </font></font><font face="OptimaLTStd"><font face="OptimaLTStd">8 month old daughter </font></font><font face="OptimaLTStd"><font face="OptimaLTStd">Ella\; his parents </font></font><font face="OptimaLTStd"><font face="OptimaLTStd">Tim &amp\; Sonja Beyers </font></font><font face="OptimaLTStd"><font face="OptimaLTStd">and Natalie &amp\; Brian </font></font><font face="OptimaLTStd"><font face="OptimaLTStd">Bittner\; and his </font></font><font face="OptimaLTStd"><font face="OptimaLTStd">brother\, Tyler Beyers.<br />\n	<br />\n	<em><strong>Contact Greenway Park Golf Course to reserve your tee time by 7/23!</strong></em><br />\n	<br />\n	<span style="font-size: 12pt"><span style="font-family: optimaltstd-black\, sans-serif"><span style="font-family: calibri">THERE&rsquo\;S SOMETHING FOR EVERYONE!</span></span></span><br />\n	<br />\n	<span style="font-size: 12pt"><span style="font-family: optimaltstd\, sans-serif"><span style="font-family: calibri">For individuals not golfing\, we encourage your</span></span></span><br />\n	<span style="font-size: 12pt"><span style="font-family: optimaltstd\, sans-serif"><span style="font-family: calibri">support! Stop by to enjoy FOOD &amp\; DRINK</span></span></span><br />\n	<span style="font-size: 12pt"><span style="font-family: optimaltstd\, sans-serif"><span style="font-family: calibri">&amp\; PRIZE DRAWINGS!</span></span></span><br />\n	<br />\n	<span style="font-size: 10pt"><span style="font-family: optimaltstd-black\, sans-serif"><span style="font-family: calibri">ALSO ACCEPTING DONATIONS:</span></span></span><br />\n	<span style="font-size: 10pt"><span style="font-family: optimaltstd\, sans-serif"><span style="font-family: calibri">Please make checks payable to:</span></span></span><br />\n	<span style="font-size: 10pt"><span style="font-family: optimaltstd\, sans-serif"><span style="font-family: calibri">NATHAN BEYERS MEMORIAL c/o Greenway Park Golf Course</span></span></span><br />\n	<span style="font-size: 10pt"><span style="font-family: optimaltstd\, sans-serif"><span style="font-family: calibri">110 Greenway Drive Broomfield\, CO 80020-6932</span></span></span><br />\n	<em><span style="font-size: 9pt"><span style="font-family: optimaltstd-italic\, sans-serif"><span style="font-family: calibri">Donations can be made at any US Bank location Acct#10367999712</span></span></span></em><br />\n	<br />\n	<span style="font-family: calibri"><strong><span style="font-size: 9pt"><span style="font-family: optimaltstd-bold\, sans-serif">QUESTIONS? </span></span></strong></span><span style="font-size: 9pt"><span style="font-family: optimaltstd\, sans-serif">contact Rachelle Moschetti</span></span><br />\n	<span style="font-size: 9pt"><span style="font-family: optimaltstd\, sans-serif"><span style="font-family: calibri">email: queenofsparkles@comcast.net &bull\; phone: 303-915-1107&nbsp\;</span></span></span></font></font></span><br />\n	&nbsp\;</p>\n
LOCATION:Greenway Park Golf Course 110 Greenway Dr. Broomfield\, CO 80020
UID:e.641.2868
SEQUENCE:3
DTSTAMP:20260420T050733Z
URL:http://business.broomfieldchamber.com/events/details/1st-annual-nathan-beyers-memorial-golf-outing-fundraiser-08-06-2011-2868
END:VEVENT

END:VCALENDAR
