BEGIN:VCALENDAR
VERSION:2.0
PRODID:-//ChamberMaster//Event Calendar 2.0//EN
METHOD:PUBLISH
X-PUBLISHED-TTL:P3D
REFRESH-INTERVAL:P3D
CALSCALE:GREGORIAN
BEGIN:VEVENT
DTSTART:20100731T160000Z
DTEND:20100801T000000Z
X-MICROSOFT-CDO-ALLDAYEVENT:FALSE
SUMMARY:1st Day Open @ Calico Books
DESCRIPTION:Saturday will be our First day Open! Come take a peek at our selection of books\, find out about our Trade Policy\, or just say Hi! If you come in during our Grand Opening Weekend (July 31st-Aug. 2nd) and let Becky know that you found our store through the Broomfield Chamber's website then you'll get $2 in Trade Credit! (once per person) Look forward to seeing you! =^.^=
X-ALT-DESC;FMTTYPE=text/html:<div>Saturday will be our First day Open! Come take a peek at our selection of books\, find out about our Trade Policy\, or just say Hi! If you come in during our Grand Opening Weekend (July 31st-Aug. 2nd) and let Becky know that you found our store through the Broomfield Chamber&rsquo\;s website then you&rsquo\;ll get $2 in Trade Credit! (once per person) Look forward to seeing you! =^.^=</div>
LOCATION:Calico Books 300 Nickel Street #2 Broomfield\, CO 80020
UID:e.641.1137
SEQUENCE:3
DTSTAMP:20260420T233153Z
URL:http://business.broomfieldchamber.com/events/details/1st-day-open-calico-books-07-31-2010-1137
END:VEVENT

END:VCALENDAR
