BEGIN:VCALENDAR
VERSION:2.0
PRODID:-//ChamberMaster//Event Calendar 2.0//EN
METHOD:PUBLISH
X-PUBLISHED-TTL:P3D
REFRESH-INTERVAL:P3D
CALSCALE:GREGORIAN
BEGIN:VEVENT
DTSTART:20110418T230000Z
DTEND:20110419T010000Z
X-MICROSOFT-CDO-ALLDAYEVENT:FALSE
SUMMARY:2010 HEART OF BROOMFIELD AWARDS
DESCRIPTION:2010 HEART OF BROOMFIELD AWARDS\nPlease join the Broomfield Community Foundation\, the Broomfield Enterprise\, Kaiser Permanente\, the Omni Interlocken Resort and Pinnacol Assurance for the 2010 Heart of Broomfield Awards and Broomfield Community Foundation 2010 Grants Celebration!\n\n\n\n\n	Monday\, April 18\, 2011\n\n\n5-7 p.m.\n\n\n\nHors d'oeuvres and Cash Bar\n\n\n\nOmni Interlocken Resort\n\n500 Interlocken Boulevard\n\nBroomfield\, CO 80020\n\n\n\n*Tickets $25 per person \n\n\n\nCall 303-469-7208 for reservations\n\nYou can also mail a check made payable to Broomfield Community Foundation to                 \n\nP.O. Box 2040\, Broomfield\, CO  80038                                                                                      \n\nPlease include names of those attending \n\n \n\n2010 Heart of Broomfield Citizen Award Winners\n\n\n\nArts-Nancy Brace\n\nEducation-Brian Scott Conly\n\nCommunity Service-Mike Lutz\n\nSenior-Robert L. Davis\n\nYouth-Scott D. Fiedler\n\nPhilanthropic-Joseph R. Mazzola\n\nGene Frank-Jennifer Kerr\n\nAngel-Carina Martin\n\nHeart and Soul-John Ferraro\n\n \n\nWe will also celebrate all 2010 grantees and scholarship recipients!
X-ALT-DESC;FMTTYPE=text/html:<h3 style="color: red">\n	<strong><span style="font-family: arial\, sans-serif"><span style="font-size: medium">2010 HEART OF BROOMFIELD AWARDS</span></span></strong></h3>\n<span style="font-family: arial\, sans-serif"><span style="font-size: medium">Please join the Broomfield Community Foundation\, the Broomfield Enterprise\, Kaiser Permanente\, the Omni Interlocken Resort and Pinnacol Assurance for the 2010 Heart of Broomfield Awards and Broomfield Community Foundation 2010 Grants Celebration!</span></span><br />\n<br />\n<h3 style="color: blue">\n	<em><strong><span style="font-family: arial\, sans-serif"><span style="font-size: medium">Monday\, April 18\, 2011</span></span></strong></em></h3>\n<br />\n<em><strong><span style="font-family: arial\, sans-serif"><span style="font-size: medium">5-7 p.m.</span></span></strong><br />\n<br />\n<span style="font-family: arial\, sans-serif"><span style="font-size: medium">Hors d&rsquo\;oeuvres and Cash Bar</span></span></em><br />\n<br />\n<strong><span style="font-family: arial\, sans-serif"><span style="font-size: medium">Omni Interlocken Resort</span></span><br />\n500 Interlocken Boulevard<br />\nBroomfield\, CO 80020</strong><br />\n<br />\n<span style="font-family: arial\, sans-serif"><span style="font-size: medium">*Tickets $25 per person </span></span><br />\n<br />\n<span style="font-family: arial\, sans-serif"><span style="font-size: medium">Call 303-469-7208 for reservations</span></span><br />\n<span style="font-family: arial\, sans-serif"><span style="font-size: medium">You can also mail a check made payable to Broomfield Community Foundation to&nbsp\;&nbsp\;&nbsp\;&nbsp\;&nbsp\;&nbsp\;&nbsp\;&nbsp\;&nbsp\;&nbsp\;&nbsp\;&nbsp\;&nbsp\;&nbsp\;&nbsp\;&nbsp\;&nbsp\;</span></span><br />\n<span style="font-family: arial\, sans-serif"><span style="font-size: medium">P.O. Box 2040\, Broomfield\, CO&nbsp\; 80038&nbsp\;&nbsp\;&nbsp\;&nbsp\;&nbsp\;&nbsp\;&nbsp\;&nbsp\;&nbsp\;&nbsp\;&nbsp\;&nbsp\;&nbsp\;&nbsp\;&nbsp\;&nbsp\;&nbsp\;&nbsp\;&nbsp\;&nbsp\;&nbsp\;&nbsp\;&nbsp\;&nbsp\;&nbsp\;&nbsp\;&nbsp\;&nbsp\;&nbsp\;&nbsp\;&nbsp\;&nbsp\;&nbsp\;&nbsp\;&nbsp\;&nbsp\;&nbsp\;&nbsp\;&nbsp\;&nbsp\;&nbsp\;&nbsp\;&nbsp\;&nbsp\;&nbsp\;&nbsp\;&nbsp\;&nbsp\;&nbsp\;&nbsp\;&nbsp\;&nbsp\;&nbsp\;&nbsp\;&nbsp\;&nbsp\;&nbsp\;&nbsp\;&nbsp\;&nbsp\;&nbsp\;&nbsp\;&nbsp\;&nbsp\;&nbsp\;&nbsp\;&nbsp\;&nbsp\;&nbsp\;&nbsp\;&nbsp\;&nbsp\;&nbsp\;&nbsp\;&nbsp\;&nbsp\;&nbsp\;&nbsp\;&nbsp\;&nbsp\;&nbsp\;&nbsp\;&nbsp\;&nbsp\;&nbsp\; </span></span><br />\n<span style="font-family: arial\, sans-serif"><span style="font-size: medium">Please include names of those attending&nbsp\;</span></span><br />\n&nbsp\;<br />\n<strong><span style="font-family: arial\, sans-serif"><span style="font-size: medium">2010 Heart of Broomfield Citizen Award Winners</span></span></strong><br />\n<br />\n<span style="font-family: arial\, sans-serif"><span style="font-size: medium">Arts-Nancy Brace</span></span><br />\n<span style="font-family: arial\, sans-serif"><span style="font-size: medium">Education-Brian Scott Conly</span></span><br />\n<span style="font-family: arial\, sans-serif"><span style="font-size: medium">Community Service-Mike Lutz</span></span><br />\n<span style="font-family: arial\, sans-serif"><span style="font-size: medium">Senior-Robert L. Davis</span></span><br />\n<span style="font-family: arial\, sans-serif"><span style="font-size: medium">Youth-Scott D. Fiedler</span></span><br />\n<span style="font-family: arial\, sans-serif"><span style="font-size: medium">Philanthropic-Joseph R. Mazzola</span></span><br />\n<span style="font-family: arial\, sans-serif"><span style="font-size: medium">Gene Frank-Jennifer Kerr</span></span><br />\n<span style="font-family: arial\, sans-serif"><span style="font-size: medium">Angel-Carina Martin</span></span><br />\n<span style="font-family: arial\, sans-serif"><span style="font-size: medium">Heart and Soul-John Ferraro</span></span><br />\n&nbsp\;<br />\n<span style="font-family: arial\, sans-serif"><span style="font-size: medium">We will also celebrate all 2010 grantees and scholarship recipients!</span></span><br />\n&nbsp\;<br />\n
LOCATION:Onmi Interlocken Resort 500 Interlocken Boulevard Broomfield\, CO. 80020
UID:e.641.1384
SEQUENCE:3
DTSTAMP:20260420T093743Z
URL:http://business.broomfieldchamber.com/events/details/2010-heart-of-broomfield-awards-04-18-2011-1384
END:VEVENT

END:VCALENDAR
