BEGIN:VCALENDAR
VERSION:2.0
PRODID:-//ChamberMaster//Event Calendar 2.0//EN
METHOD:PUBLISH
X-PUBLISHED-TTL:P3D
REFRESH-INTERVAL:P3D
CALSCALE:GREGORIAN
BEGIN:VEVENT
DTSTART;VALUE=DATE:20101201
DTEND;VALUE=DATE:20101229
TRANSP:TRANSPARENT
X-MICROSOFT-CDO-ALLDAYEVENT:TRUE
SUMMARY:2010 Optimal Health Chiropractic Coat/Blanket Drive
DESCRIPTION:Help us serve the Denver homeless with the gift of warmth.  OHC is teaming up with Jericho Ministries International for the 2010 coat drive.  We will be hand delivering these coats after Christmas via bus.  If you are interested in joining us deliver call our office to sign up\, 303-466-3988.  The last day to donate is December 28th. A donation of one coat/blanket = 1 free adjustment (one per person)\, Free new patient exam ($210.00 Value)\, or a $39 coupon for a one hour massage.  Bring all donations to Optimal Health Chiropractic.
X-ALT-DESC;FMTTYPE=text/html:Help us serve the Denver homeless with the gift of warmth.  OHC is teaming up with Jericho Ministries International for the 2010 coat drive.  We will be hand delivering these coats after Christmas via bus.  If you are interested in joining us deliver call our office to sign up\, 303-466-3988.  The last day to donate is December 28th. A donation of one coat/blanket = 1 free adjustment (one per person)\, Free new patient exam ($210.00 Value)\, or a $39 coupon for a one hour massage.  Bring all donations to Optimal Health Chiropractic.  
LOCATION:Optimal Health Chiropractic 12995 Sheridan Blvd. #101 Broomfield\, Co 80020
UID:e.641.1259
SEQUENCE:3
DTSTAMP:20260420T173426Z
URL:http://business.broomfieldchamber.com/events/details/2010-optimal-health-chiropractic-coat-blanket-drive-12-01-2010-1259
END:VEVENT

END:VCALENDAR
