BEGIN:VCALENDAR
VERSION:2.0
PRODID:-//ChamberMaster//Event Calendar 2.0//EN
METHOD:PUBLISH
X-PUBLISHED-TTL:P3D
REFRESH-INTERVAL:P3D
CALSCALE:GREGORIAN
BEGIN:VEVENT
DTSTART:20110911T000000Z
DTEND:20110911T040000Z
X-MICROSOFT-CDO-ALLDAYEVENT:FALSE
SUMMARY:2nd Annual Honoring our Heroes
DESCRIPTION:The Broomfield Rotary Charitable Foundation is proud to present the second annual "Honoring our Heroes" fundraiser. Drinks\, Dinner\, and Live Entertainment! Also $50 helicopter rides! \n\n\n\n6:00p.m.-10:00p.m.\n\n\n\nHosted bar with wine\, beer and soft drinks. Roast Pig and Bar-B-Que Dinner. Plus live music and entertainment from Reville3 and The Hot Tomatoes Dance Orchestra!\n\n\n\nDress is Colorado Casual
X-ALT-DESC;FMTTYPE=text/html:<em><strong>The Broomfield Rotary Charitable Foundation&nbsp\;is proud to present the second annual &quot\;Honoring our Heroes&quot\; fundraiser.&nbsp\;Drinks\,&nbsp\;Dinner\, and&nbsp\;Live&nbsp\;Entertainment! Also&nbsp\;$50 helicopter rides!&nbsp\;<br />\n<br />\n6:00p.m.-10:00p.m.<br />\n<br />\nHosted bar with wine\, beer and soft drinks. Roast Pig and Bar-B-Que Dinner. Plus live music and entertainment from Reville3 and The Hot Tomatoes Dance Orchestra!<br />\n<br />\nDress is Colorado Casual</strong></em>
LOCATION:Rotors of the Rockies 11915 Airport Way
UID:e.641.2877
SEQUENCE:3
DTSTAMP:20260420T022457Z
URL:http://business.broomfieldchamber.com/events/details/2nd-annual-honoring-our-heroes-09-10-2011-2877
END:VEVENT

END:VCALENDAR
