BEGIN:VCALENDAR
VERSION:2.0
PRODID:-//ChamberMaster//Event Calendar 2.0//EN
METHOD:PUBLISH
X-PUBLISHED-TTL:P3D
REFRESH-INTERVAL:P3D
CALSCALE:GREGORIAN
BEGIN:VEVENT
DTSTART:20100514T220000Z
DTEND:20100515T020000Z
X-MICROSOFT-CDO-ALLDAYEVENT:FALSE
SUMMARY:3D Vision Eye Care Grands Opening
DESCRIPTION:Grand Opening Celebration!  Come join us for wine and hors d'oeurves\, giveaways and other Grand Opening incentives.
X-ALT-DESC;FMTTYPE=text/html:Grand Opening Celebration!  Come join us for wine and hors d'oeurves\, giveaways and other Grand Opening incentives.
LOCATION:5760 W. 120th Ave.\, Suite 240\, Broomfield\, CO
UID:e.641.1064
SEQUENCE:3
DTSTAMP:20260421T040700Z
URL:http://business.broomfieldchamber.com/events/details/3d-vision-eye-care-grands-opening-05-14-2010-1064
END:VEVENT

END:VCALENDAR
