BEGIN:VCALENDAR
VERSION:2.0
PRODID:-//ChamberMaster//Event Calendar 2.0//EN
METHOD:PUBLISH
X-PUBLISHED-TTL:P3D
REFRESH-INTERVAL:P3D
CALSCALE:GREGORIAN
BEGIN:VEVENT
DTSTART;VALUE=DATE:20110610
DTEND;VALUE=DATE:20110611
TRANSP:TRANSPARENT
X-MICROSOFT-CDO-ALLDAYEVENT:TRUE
SUMMARY:3rd Annual Golf For A Precious Child Event
DESCRIPTION:Have a fun day of golf and know that you are making an impact in a child's life. A Precious Child is hosting their 3rd annual 'Golf For A Precious Child' golf tournament.  A Precious Child is a 501c3 non-profit organization located in Broomfield. It is devoted to making a positive impact in the lives of disadvantaged and displaced children by improving their quality of life through various activities such as the 'Fill A Backpack' program.\n\n\n\nThe event will feature many contests\, prizes\, and surprises. For example\, the Hole in One contest will feature a two year lease on a Land Rover\, donated by Flatirons Land Rover. A live auction will include condo rentals in Vail and Steamboat Springs.\n\n\n\nA limited number of sponsorships at various levels are still available. Sponsorships include recognition at the event and in all marketing material. This is an ideal way to let people know that you care. Finally\, if you would like to support this event by donating a prize for a contest\, it would be greatly appreciated by us and the children you are supporting by your generosity.
X-ALT-DESC;FMTTYPE=text/html:Have a fun day of golf and know that you are making an impact in a child&#39\;s life. A Precious Child is hosting their 3rd annual &#39\;Golf For A Precious Child&#39\; golf tournament.&nbsp\; A Precious Child is a 501c3 non-profit organization located in Broomfield. It is devoted to making a positive impact in the lives of disadvantaged and displaced children by improving their quality of life through various activities such as the &#39\;Fill A Backpack&#39\; program.<br />\n<br />\nThe event will feature many contests\, prizes\, and surprises. For example\, the Hole in One contest will feature a two year lease on a Land Rover\, donated by Flatirons Land Rover. A live auction will include condo rentals in Vail and Steamboat Springs.<br />\n<br />\nA limited number of sponsorships at various levels are still available. Sponsorships include recognition at the event and in all marketing material. This is an ideal way to let people know that you care. Finally\, if you would like to support this event by donating a prize for a contest\, it would be greatly appreciated by us and the children you are supporting by your generosity.&nbsp\; 
LOCATION:Legacy Ridge Golf Course 10801 Legacy Ridge Parkway Westminster Colorado
UID:e.641.1479
SEQUENCE:3
DTSTAMP:20260420T063309Z
URL:http://business.broomfieldchamber.com/events/details/3rd-annual-golf-for-a-precious-child-event-06-10-2011-1479
END:VEVENT

END:VCALENDAR
