BEGIN:VCALENDAR
VERSION:2.0
PRODID:-//ChamberMaster//Event Calendar 2.0//EN
METHOD:PUBLISH
X-PUBLISHED-TTL:P3D
REFRESH-INTERVAL:P3D
CALSCALE:GREGORIAN
BEGIN:VEVENT
DTSTART;VALUE=DATE:20101007
DTEND;VALUE=DATE:20101010
TRANSP:TRANSPARENT
X-MICROSOFT-CDO-ALLDAYEVENT:TRUE
SUMMARY:3rd Annual International Conference on Energy\, Logistics and the Environment
DESCRIPTION:Theme: Sustainability\nThe conference attracts scholars\, researchers\, school administrators\, facilities managers\, senior executives from diverse industries and sectors worldwide. Learn the trends\, research\, best practices\, energy policies\, financing and commercializing green technology\, and the tools that you can immediately apply to your work environment.Hear the case studies from people who are doing it and listen to the experts discuss the current and future needs of the sustainability industry and how colleges can help create more adept leaders to resolve these needs.Listen to scholars present their latest research and contribute to solving real life problemsCONFIRMED SPEAKERS Don McClure Vice President\, Government &  Stakeholder Relations & Legal EnCana Oil & Gas (USA) Inc. Dr. Richard E. Franklin Co-Chair and Executive Director of Rocky Mountain Clean Tech OpenDr. Heinz Buschang Dean\,School of Management\, Regis UniversityEsteban G. S enz E. Vice President of Environment\, Water\, and Energy-Panama Canal Authority-PanamaDr\, Bruce Hutton Dean Emeritus and Professor of Marketing\, Daniel's College of Business of Business\, University of DenverDr. Mark Reiner Principal\, Symbiotic EngineeringThomas Pyle President\, Institute for Energy Research/American Energy AllianceBill Schroeder Manager of Public Affairs\, Intermountain Rural Electric Association Dr. Alan Propp Business Development Manager\, Merrick & Company Mark A. Serwinowski President and Founder \, metav  Mo-Kan Wong Director\, Reefer Trade\, OOCL (USA) IncLee J. Peterson Esq. Senior Manager   Tax\, Reznick GroupDavid Hill Team Lead\, Vice President\, EnCana Oil & Gas (USA)\, Inc.John Kioli Executive Director\, Green Africa Foundation-KenyaColin Lippincott General Manager-Renewable Energy\, FreeWave Technologies\, Inc.Kelly Beninga Global Director\, Renewable Energy\, WorleyParsonsDr. Frank Kreith Professor of Engineering (Emeritus)\, University of ColoradoBarbra Stocker President\, Intelligent Risking IncDoug Sampson Senior Vice President\, ACME DistributorsDr. Oliver Hemmers Executive Director of the Harry Reid Center for Environmental Studies Brian Keane President\, SmartPowerDr. Gayla Kraetsch Hartsough President\, KH Consulting GroupDr. Arun Jhuveri First mayor of Burien City and Certified Sustainable Development Professional (CSDP)Dr. Kristina E. Lipinska-Kalita Associate Research Professor & Project Manager for Materials Research\, UNLVJohn F. Ashburn\, Jr. Vice President & General Counsel Molycorp Minerals\, LLCDoug Thorner Regional President\, Earthstream GlobalDr. Carol L. Barbeito President and Managing Director\, Earth ProtectDr. Mosto Onuoha Shell/NNPC Chair of Geology and former Chancellor\, University of Nigeria\, NsukkaKhurshid Qureshi Ph.D. President & CEO VerdeLogix and Senior Partner Technology Infrastructure GroupMyron Ebell Director\, Energy and Global Warming Policy Competitive Enterprise InstituteJohn Skibinski Vice President Renewable Energies\, American Electric Technologies\, Inc.Dr.  Luka Powanga Professor\, Regis UniversityBill Shepard Principal GeoPoint Partners\, LLCTony Georgis Project Manager\, HalcrowDr. Alan Weimer Professor\, Chemical and Biological Engineering\, University of ColoradoDr. Alan Propp Manager of Business Development for Renewable Energy at Merrick & CompanyJames Muchmore Associate\, Patton Boggs LLP.Ken J. Beitel Founder and Advisory Board Chairman of The Renewable Energy InitiativeBrian G. McDonald Vice President- IntermodalVann Cunningham Assistant Vice President\, Economic Development\, BNSF Railway CompanyOrganized and hosted by: \nGlobal Commerce Forum \nCSCMP-Council of Supply Chain Management Professionals \n\nFind our more and register at: www.globalcommerceforum.org
X-ALT-DESC;FMTTYPE=text/html:<div><span style="color: #ff0000"><span style="font-size: small"><strong>Theme: Sustainability</strong></span></span><span style="color: #808000"><span style="font-size: small"><strong><br /></strong></span></span></div><div><strong>The conference attracts scholars\, researchers\, school administrators\, facilities managers\, senior executives from diverse industries and sectors worldwide.</strong></div><div>&nbsp\;</div><div>Learn the trends\, research\, best practices\, energy policies\, financing and commercializing green technology\, and the tools that you can immediately apply to your work environment.</div><div>Hear the case studies from people who are doing it and listen to the experts discuss the current and future needs of the sustainability industry and how colleges can help create more adept leaders to resolve these needs.</div><div><span style="background-color: #ffffff"><span style="color: #000000">Listen to scholars present their latest research and contribute to solving real life problems</span></span></div><div><span style="color: #000000"><span style="background-color: #ffffff"><span style="font-size: x-small"><b><span style="line-height: 113%">CONFIRMED SPEAKERS</span></b></span></span></span><span style="background-color: #ffffff"><span style="color: #339966"><span style="font-size: x-small"><b>&nbsp\;</b></span></span></span></div><div><div style="margin: 0in 0in 0pt"><span style="font-size: x-small"><b><span style="line-height: 113%">Don McClure</span><span style="line-height: 113%\; font-weight: normal"> Vice President\, Government &amp\;&nbsp\; Stakeholder Relations &amp\; Legal EnCana Oil &amp\; Gas (USA) Inc.&nbsp\;</span></b></span></div><div style="margin: 0in 0in 0pt"><span style="font-size: x-small"><b><span style="line-height: 115%">Dr. Richard E. Franklin </span></b><span style="line-height: 115%">Co-Chair and Executive Director of Rocky Mountain Clean Tech Open</span></span></div><div style="margin: 0in 0in 0pt"><span style="font-size: x-small"><b><span style="line-height: 115%">Dr. Heinz Buschang</span></b><span style="line-height: 115%"> Dean\,School of Management\, Regis University</span></span></div><div style="line-height: normal\; margin: auto auto 0pt"><span style="font-size: x-small"><b>Esteban G. S&aacute\;enz E. </b>Vice President of Environment\, Water\, and Energy-Panama Canal Authority-Panama</span></div><div style="margin: 0in 0in 0pt"><span style="font-size: x-small"><b><span style="line-height: 115%">Dr\, Bruce Hutton </span></b><span style="line-height: 115%">Dean Emeritus and Professor of Marketing\, Daniel&rsquo\;s College of Business of Business\, University of Denver</span></span></div><div style="margin: 0in 0in 0pt"><span style="font-size: x-small"><b><span style="line-height: 115%">Dr. Mark Reiner</span></b><span style="line-height: 115%"> Principal\, Symbiotic Engineering</span></span></div><div style="margin: 0in 0in 0pt"><span style="font-size: x-small"><b><span style="line-height: 115%">Thomas Pyle</span></b><span style="line-height: 115%"> President\, Institute for Energy Research/American Energy Alliance</span></span></div><div style="margin: 0in 0in 0pt"><span style="font-size: x-small"><b><span style="line-height: 115%">Bill Schroeder</span></b><span style="line-height: 115%"> Manager of Public Affairs\, Intermountain Rural Electric Association </span></span></div><div style="margin: 0in 0in 0pt"><span style="font-size: x-small"><b><span style="line-height: 115%">Dr. Alan Propp</span></b><span style="line-height: 115%"> Business Development Manager\, Merrick &amp\; Company</span></span></div><div style="margin: 0in 0in 0pt"><span style="font-size: x-small"><b><span style="line-height: 115%">&nbsp\;Mark A. Serwinowski</span></b><span style="line-height: 115%"> President and Founder \, metav&ucirc\; </span></span></div><div style="margin: 0in 0in 0pt"><span style="font-size: x-small"><b><span style="line-height: 115%">Mo-Kan Wong</span></b><span style="line-height: 115%"> Director\, Reefer Trade\, OOCL (USA) Inc</span></span></div><div style="margin: 0in 0in 0pt"><span style="font-size: x-small"><b><span style="line-height: 115%">Lee J. Peterson</span></b><strong><span style="line-height: 115%"> Esq</span></strong><span style="line-height: 115%">. Senior Manager &ndash\; Tax\, Reznick Group</span></span></div><div style="margin: 0in 0in 0pt"><span style="font-size: x-small"><b><span style="line-height: 115%">David Hill</span></b><span style="line-height: 115%"> Team Lead\, Vice President\, EnCana Oil &amp\; Gas (USA)\, Inc.</span></span></div><div style="margin: 0in 0in 0pt"><span style="font-size: x-small"><b><span style="line-height: 115%">John Kioli</span></b><span style="line-height: 115%"> Executive Director\, Green Africa Foundation-Kenya</span></span></div><div style="margin: 0in 0in 0pt"><span style="font-size: x-small"><b><span style="line-height: 115%">Colin Lippincott</span></b><span style="line-height: 115%"> General Manager-Renewable Energy\, FreeWave Technologies\, Inc.</span></span></div><div style="margin: 0in 0in 0pt"><span style="font-size: x-small"><b><span style="line-height: 115%">Kelly Beninga</span></b><span style="line-height: 115%">&nbsp\;Global Director\, Renewable Energy\, WorleyParsons</span></span></div><div style="margin: 0in 0in 0pt"><span style="font-size: x-small"><b><span style="line-height: 115%">Dr. Frank Kreith</span></b><span style="line-height: 115%"> Professor of Engineering (Emeritus)\, University of Colorado</span></span></div><div style="margin: 0in 0in 0pt"><span style="font-size: x-small"><b><span style="line-height: 115%">Barbra Stocker</span></b><span style="line-height: 115%"> President\, Intelligent Risking Inc</span></span></div><div style="margin: 0in 0in 0pt"><span style="font-size: x-small"><b><span style="line-height: 115%">Doug Sampson </span></b><span style="line-height: 115%">Senior Vice President\, ACME Distributors</span></span></div><div style="margin: 0in 0in 0pt"><span style="font-size: x-small"><b><span style="line-height: 115%">Dr. Oliver Hemmers</span></b><span style="line-height: 115%"> Executive Director of the Harry Reid Center for Environmental Studies <b>Brian Keane</b> President\, SmartPower</span></span></div><div style="margin: 0in 0in 0pt"><span style="font-size: x-small"><b><span style="line-height: 115%">Dr. Gayla Kraetsch Hartsough</span></b><span style="line-height: 115%"> President\, KH Consulting Group</span></span></div><div style="margin: 0in 0in 0pt"><span style="font-size: x-small"><b><span style="line-height: 115%">Dr. Arun Jhuveri</span></b><span style="line-height: 115%"> First mayor of Burien City and Certified Sustainable Development Professional (CSDP)</span></span></div><div style="margin: 0in 0in 0pt"><span style="font-size: x-small"><b><span style="line-height: 115%">Dr. Kristina E. Lipinska-Kalita</span></b><span style="line-height: 115%"> Associate Research Professor &amp\; Project Manager for Materials Research\, UNLV</span></span></div><div style="margin: 0in 0in 0pt"><span style="font-size: x-small"><b><span style="line-height: 115%">John F. Ashburn\, Jr</span></b><span style="line-height: 115%">. Vice President &amp\; General Counsel Molycorp Minerals\, LLC</span></span></div><div style="margin: 0in 0in 0pt"><span style="font-size: x-small"><b><span style="line-height: 115%">Doug Thorner</span></b><span style="line-height: 115%"> Regional President\, Earthstream Global</span></span></div><div style="margin: 0in 0in 0pt"><span style="font-size: x-small"><b><span style="line-height: 115%">Dr. Carol L. Barbeito</span></b><span style="line-height: 115%"> President and Managing Director\, Earth Protect</span></span></div><div style="margin: 0in 0in 0pt"><span style="font-size: x-small"><b><span style="line-height: 115%">Dr. Mosto Onuoha</span></b><span style="line-height: 115%"> Shell/NNPC Chair of Geology and former Chancellor\, University of Nigeria\, Nsukka</span></span></div><div style="margin: 0in 0in 0pt"><span style="font-size: x-small"><b><span style="line-height: 115%">Khurshid Qureshi</span></b><span style="line-height: 115%"> Ph.D. President &amp\; CEO VerdeLogix and Senior Partner Technology Infrastructure Group</span></span></div><div style="margin: 0in 0in 0pt"><span style="font-size: x-small"><b><span style="line-height: 115%">Myron Ebell</span></b><span style="line-height: 115%"> Director\, Energy and Global Warming Policy Competitive Enterprise Institute</span></span></div><div style="margin: 0in 0in 0pt"><span style="font-size: x-small"><b><span style="line-height: 115%">John Skibinski</span></b><span style="line-height: 115%"> Vice President Renewable Energies\, American Electric Technologies\, Inc.</span></span></div><div style="text-align: justify\; margin: 0in 0in 0pt"><span style="font-size: x-small"><b><span style="line-height: 115%\; color: black">Dr.&nbsp\; Luka Powanga </span></b><span style="line-height: 115%\; color: black">Professor\, Regis University</span></span></div><div style="text-align: justify\; margin: 0in 0in 0pt"><span style="font-size: x-small"><b><span style="line-height: 115%">Bill Shepard </span></b><span style="line-height: 115%">Principal<b> </b>GeoPoint Partners\, LLC</span></span></div><div style="margin: 0in 0in 0pt"><span style="font-size: x-small"><b><span style="line-height: 115%">Tony Georgis </span></b><span style="line-height: 115%">Project Manager\,&nbsp\;Halcrow</span></span></div><div style="margin: 0in 0in 0pt"><span style="font-size: x-small"><b><span style="line-height: 115%">Dr. Alan Weimer </span></b><span style="line-height: 115%">Professor\, Chemical and Biological Engineering\, University of Colorado</span></span></div><div style="margin: 0in 0in 0pt"><span style="font-size: x-small"><b><span style="line-height: 115%">Dr. Alan Propp </span></b><span style="line-height: 115%\; color: black">Manager of Business Development for Renewable Energy at Merrick &amp\; Company</span></span></div><div style="margin: 0in 0in 0pt"><span style="font-size: x-small"><b><span style="line-height: 115%">James Muchmore </span></b><span style="line-height: 115%">Associate\, Patton Boggs LLP.</span></span></div><div style="margin: 0in 0in 0pt"><span style="font-size: x-small"><b><span style="line-height: 115%">Ken J. Beitel F</span></b><span style="line-height: 115%">ounder and Advisory Board Chairman of The Renewable Energy Initiative</span></span></div><div style="margin: 0in 0in 0pt"><span style="font-size: x-small"><b><span style="line-height: 115%">Brian G. McDonald </span></b><span style="line-height: 115%">Vice President- Intermodal</span></span></div><div style="margin: 0in 0in 10pt"><span style="font-size: x-small"><b><span style="line-height: 115%\; color: black">Vann Cunningham</span></b><span style="color: black"> </span><span style="line-height: 115%\; color: black">Assistant Vice President\, Economic Development\, BNSF Railway Company</span></span></div><span style="color: #339966"><span style="color: #000000"><span style="font-size: small"><strong>Organized and hosted by:</strong></span></span></span><span style="color: #ff0000"><span style="font-size: small"> </span><br /><span style="color: #000000"><strong><span style="font-size: small">Global Commerce Forum <br /></span></strong></span><span style="color: #000000"><strong><span style="font-size: small">CSCMP-Council of Supply Chain Management Professionals</span></strong></span><strong><span style="font-size: small"> </span></strong><br /><span style="color: #000000"><br /><strong>Find our more and register at: www.globalcommerceforum.org</strong></span></span></div>
LOCATION:The Grand Hyatt Hotel\, Denver Colorado
UID:e.641.1168
SEQUENCE:3
DTSTAMP:20260420T202336Z
URL:http://business.broomfieldchamber.com/events/details/3rd-annual-international-conference-on-energy-logistics-and-the-environment-10-07-2010-1168
END:VEVENT

END:VCALENDAR
