BEGIN:VCALENDAR
VERSION:2.0
PRODID:-//ChamberMaster//Event Calendar 2.0//EN
METHOD:PUBLISH
X-PUBLISHED-TTL:P3D
REFRESH-INTERVAL:P3D
CALSCALE:GREGORIAN
BEGIN:VEVENT
DTSTART:20120209T160000Z
DTEND:20120210T000000Z
X-MICROSOFT-CDO-ALLDAYEVENT:FALSE
SUMMARY:$5 Day at the Butterfly Pavilion
DESCRIPTION:For only $5 this Sunday\, February 12th\, transport yourself to the Butterfly Pavilion   the zoo of small wonders where you'll have a BIG experience!\n\n	Adventure to the realm of Rosie the Tarantula\; learn about beetles\, millipedes\, scorpions\, and more!\n\n	Step to Water's Edge to be immersed in the underwater world of sea cucumbers\, corals\, star fish\, lobsters and hermit crabs!\n\n	Explore an open-air jungle where 1\,600 butterflies rule the sky!\n\n	Journey through our gardens and nature trails where you're sure to see critters of all kinds!
X-ALT-DESC;FMTTYPE=text/html:<p class="MsoNormal">\n	<span style="font-size: 14px"><b><span gill="" sans="">For only $5 this Sunday\, February 12<sup>th</sup>\, transport yourself to the Butterfly Pavilion &ndash\; the zoo of small wonders where you&rsquo\;ll have a BIG experience!<br />\n	Adventure to the realm of Rosie the Tarantula\; learn about beetles\, millipedes\, scorpions\, and more!<br />\n	Step to Water&rsquo\;s Edge to be immersed in the underwater world of sea cucumbers\, corals\, star fish\, lobsters and hermit crabs!<br />\n	Explore an open-air jungle where 1\,600 butterflies rule the sky!<br />\n	Journey through our gardens and nature trails where you&rsquo\;re sure to see critters of all kinds!</span></b></span></p>\n
LOCATION:The Butterfly Pavilion | 6252 West 104th Avenue\, Westminster\, CO 80020
UID:e.641.3478
SEQUENCE:3
DTSTAMP:20260419T193406Z
URL:http://business.broomfieldchamber.com/events/details/5-day-at-the-butterfly-pavilion-02-09-2012-3478
END:VEVENT

END:VCALENDAR
