BEGIN:VCALENDAR
VERSION:2.0
PRODID:-//ChamberMaster//Event Calendar 2.0//EN
METHOD:PUBLISH
X-PUBLISHED-TTL:P3D
REFRESH-INTERVAL:P3D
CALSCALE:GREGORIAN
BEGIN:VEVENT
DTSTART:20110409T233000Z
DTEND:20110410T030000Z
X-MICROSOFT-CDO-ALLDAYEVENT:FALSE
SUMMARY:5th Annual Glory Gala for Glory Community
DESCRIPTION:5th Annual Glory Gala "Happy Days"\n\n\n\nDinner/Silent and Live Auctions/Entertainment\n\n\n\n17th Ave. Allstars Doo-Wop Musical Revue
X-ALT-DESC;FMTTYPE=text/html:<strong><span style="font-size: 14px"><span style="font-size: 16px">5th Annual Glory Gala &quot\;Happy Days&quot\;</span><br />\n<br />\nDinner/Silent and Live Auctions/Entertainment<br />\n<br />\n17th Ave. Allstars Doo-Wop Musical Revue</span></strong>
LOCATION:Arvada Center\, 6901 Wadsworth Blvd\, Arvada 80003
UID:e.641.1304
SEQUENCE:3
DTSTAMP:20260420T093155Z
URL:http://business.broomfieldchamber.com/events/details/5th-annual-glory-gala-for-glory-community-04-09-2011-1304
END:VEVENT

END:VCALENDAR
