BEGIN:VCALENDAR
VERSION:2.0
PRODID:-//ChamberMaster//Event Calendar 2.0//EN
METHOD:PUBLISH
X-PUBLISHED-TTL:P3D
REFRESH-INTERVAL:P3D
CALSCALE:GREGORIAN
BEGIN:VEVENT
DTSTART:20100323T003000Z
DTEND:20100323T013000Z
X-MICROSOFT-CDO-ALLDAYEVENT:FALSE
SUMMARY:6 Habits of Effective & Profitable Managers
DESCRIPTION:This meetup is for managers\, supervisors or business owners who are either new or have been doing the job for awhile.  The field of management changes as the workplace changes\, but people don't always realize this.  Staying on top of these changes and being more effective is what we desire. With over 10 years managing\, hiring and training profesionals\, Larry Pierce\, organizer\, LCI Certified Professional Life & Business Coach and motivational speaker\, desires to help business owners\, supervisors and managers enjoy the position they are in\, be effective and help create increased profits. Designed to be motivational and inspirational\, come check it out\, network with others going through the same thing and make a few new friends along the way.
X-ALT-DESC;FMTTYPE=text/html:<div>This meetup is for managers\, supervisors or business owners who are either new or have been doing the job for awhile.&nbsp\; The field of management changes as the workplace changes\, but people don&rsquo\;t always realize this.&nbsp\; Staying on top of these changes and being more effective is what we desire.</div><div>&nbsp\;</div><div>With over 10 years managing\, hiring and training profesionals\, Larry Pierce\, organizer\, LCI&nbsp\;Certified Professional Life &amp\;&nbsp\;Business Coach and motivational speaker\, desires to help business owners\, supervisors and managers enjoy the position they are in\, be effective and help create increased profits.</div><div>&nbsp\;</div><div>Designed to be motivational and inspirational\, come check it out\, network with others going through the same thing and make a few new friends along the way.</div>
LOCATION:For more information and to register visit: http://www.meetup.com/secretmanager/
UID:e.641.587
SEQUENCE:3
DTSTAMP:20260421T055725Z
URL:http://business.broomfieldchamber.com/events/details/6-habits-of-effective-profitable-managers-03-22-2010-587
END:VEVENT

END:VCALENDAR
