BEGIN:VCALENDAR
VERSION:2.0
PRODID:-//ChamberMaster//Event Calendar 2.0//EN
METHOD:PUBLISH
X-PUBLISHED-TTL:P3D
REFRESH-INTERVAL:P3D
CALSCALE:GREGORIAN
BEGIN:VEVENT
DTSTART:20101205T160000Z
DTEND:20101205T210000Z
X-MICROSOFT-CDO-ALLDAYEVENT:FALSE
SUMMARY:6th Annual Canine Rehabilitation & Conditioning Group Holdiay Party
DESCRIPTION:6th Annual Canine Rehabilitation & Conditioning Group Holdiay Party - Benefit for Golden Retriever Freedom Rescue\n\n\n\nSilent Auction\, Recreational Swimming\, Pictures with Santa\, Food and Fun!
X-ALT-DESC;FMTTYPE=text/html:6th Annual Canine Rehabilitation &amp\; Conditioning Group Holdiay Party - Benefit for Golden Retriever Freedom Rescue\n<br>\n<br>Silent Auction\, Recreational Swimming\, Pictures with Santa\, Food and Fun!
LOCATION:Canine Rehabilitation & Conditioning Group 8855 W. 116th Circle Broomfield\, CO 80021
UID:e.641.1251
SEQUENCE:3
DTSTAMP:20260420T160505Z
URL:http://business.broomfieldchamber.com/events/details/6th-annual-canine-rehabilitation-conditioning-group-holdiay-party-12-05-2010-1251
END:VEVENT

END:VCALENDAR
