BEGIN:VCALENDAR
VERSION:2.0
PRODID:-//ChamberMaster//Event Calendar 2.0//EN
METHOD:PUBLISH
X-PUBLISHED-TTL:P3D
REFRESH-INTERVAL:P3D
CALSCALE:GREGORIAN
BEGIN:VEVENT
DTSTART;VALUE=DATE:20120530
DTEND;VALUE=DATE:20120531
TRANSP:TRANSPARENT
X-MICROSOFT-CDO-ALLDAYEVENT:TRUE
SUMMARY:8th Annual Flag Retirement Ceremony
DESCRIPTION:Citizens\, that have old flags which have become worn beyond repair\, may retire their flag properly by donating them to North Metro Fire Rescue or the Broomfield Veterans Memorial Museum for inclusion in the 2012 Flag Retirement Ceremony on June 14th.  Citizens can drop off their flags at the following locations and times:\n\n	 North Metro Fire Rescue Headquarters\n\n	101 Lamar Street\, Broomfield\n\n	Monday Friday\, 8:00 a.m. until 5:00 p.m.\n\n	 Broomfield Veterans Memorial Museum\n\n	12 Garden Center\, Broomfield\n\n	Saturdays from 11:00 a.m. until 5:00 p.m.\n\n	North Metro Fire Station 62\n\n	10550 Huron Street\, Northglenn\n\n	Monday Sunday\, 8:00 a.m. until 7:00 p.m.\n\n	 \n\n	North Metro Fire Rescue and Broomfield Veterans Memorial Museum will be accepting flags up until 7:00 p.m. on June 13\, 2012. \n\n	 The American flag is an honored symbol of the nation's unity.  This Flag Day on June 14th at 6:00 p.m.\, North Metro Fire Rescue District and the Broomfield Veterans Memorial Museum are joining together to offer their 8th Annual Flag Retirement Ceremony for the community. \n\n	\n\n	The ceremony is free to the public and will be held in the 9/11 Memorial Park behind North Metro Fire Rescue located at 101 Lamar St. in Broomfield.
X-ALT-DESC;FMTTYPE=text/html:<p class="MsoNormal" style="text-align: justify">\n	<br />\n	<span style="font-size: 14px"><span style="font-family: verdana">Citizens\, that have old flags which have become worn beyond repair\, may retire their flag properly by donating them to North Metro Fire Rescue or the Broomfield Veterans Memorial Museum for inclusion in the 2012 Flag Retirement Ceremony on June 14th.&nbsp\; Citizens can drop off their flags at the following locations and times:</span></span></p>\n<p align="center" class="MsoNormal" style="text-align: center">\n	<span style="font-size: 14px"><span style="font-family: verdana">&nbsp\;<b><u>North Metro Fire Rescue Headquarters</u></b></span></span></p>\n<p align="center" class="MsoNormal" style="text-align: center">\n	<span style="font-size: 14px"><span style="font-family: verdana">101 Lamar Street\, Broomfield</span></span></p>\n<p align="center" class="MsoNormal" style="text-align: center">\n	<span style="font-size: 14px"><span style="font-family: verdana">Monday&mdash\;Friday\, 8:00 a.m. until 5:00 p.m.</span></span></p>\n<p align="center" class="MsoNormal" style="text-align: center">\n	<span style="font-size: 14px"><span style="font-family: verdana">&nbsp\;<b><u>Broomfield Veterans Memorial Museum</u></b></span></span></p>\n<p align="center" class="MsoNormal" style="text-align: center">\n	<span style="font-size: 14px"><span style="font-family: verdana">12 Garden Center\, Broomfield</span></span></p>\n<p align="center" class="MsoNormal" style="text-align: center">\n	<span style="font-size: 14px"><span style="font-family: verdana">Saturdays from 11:00 a.m. until 5:00 p.m.</span></span></p>\n<p align="center" class="MsoNormal" style="text-align: center">\n	<span style="font-size: 14px"><span style="font-family: verdana"><b><u>North Metro Fire Station 62</u></b></span></span></p>\n<p align="center" class="MsoNormal" style="text-align: center">\n	<span style="font-size: 14px"><span style="font-family: verdana">10550 Huron Street\, Northglenn</span></span></p>\n<p align="center" class="MsoNormal" style="text-align: center">\n	<span style="font-size: 14px"><span style="font-family: verdana">Monday&mdash\;Sunday\, 8:00 a.m. until 7:00 p.m.</span></span></p>\n<p class="MsoNormal" style="text-align: justify">\n	<span style="font-size: 14px"><span style="font-family: verdana">&nbsp\;</span></span></p>\n<p class="MsoNormal" style="text-align: justify">\n	<span style="font-size: 14px"><span style="font-family: verdana">North Metro Fire Rescue and Broomfield Veterans Memorial Museum will be accepting flags up until 7:00 p.m. on June 13\, 2012.&nbsp\;</span></span></p>\n<p class="MsoNormal" style="text-align: justify">\n	<span style="font-size: 14px"><span style="font-family: verdana">&nbsp\;The American flag is an honored symbol of the nation&rsquo\;s unity.&nbsp\; This Flag Day on June 14<sup>th</sup> at 6:00 p.m.\, North Metro Fire Rescue District and the Broomfield Veterans Memorial Museum are joining together to offer their 8<sup>th</sup> Annual Flag Retirement Ceremony for the community.&nbsp\;<br />\n	<br />\n	<strong>The ceremony is free to the public and will be held in the 9/11 Memorial Park behind North Metro Fire Rescue located at 101 Lamar St. in Broomfield.</strong></span></span><br />\n	<br />\n	&nbsp\;</p>\n
LOCATION:9/11 Memorial Park behind North Metro Fire Rescue Headquarters located at 101 Lamar St\, Broomfield\, CO 80020.
UID:e.641.4233
SEQUENCE:3
DTSTAMP:20260419T144455Z
URL:http://business.broomfieldchamber.com/events/details/8th-annual-flag-retirement-ceremony-05-30-2012-4233
END:VEVENT

END:VCALENDAR
