BEGIN:VCALENDAR
VERSION:2.0
PRODID:-//ChamberMaster//Event Calendar 2.0//EN
METHOD:PUBLISH
X-PUBLISHED-TTL:P3D
REFRESH-INTERVAL:P3D
CALSCALE:GREGORIAN
BEGIN:VEVENT
DTSTART:20120614T140000Z
DTEND:20120614T213000Z
X-MICROSOFT-CDO-ALLDAYEVENT:FALSE
SUMMARY:A Day with Alternative View
DESCRIPTION:Come get your Windshield Repaired and your Headlights Restored while you work.\n\n	\n\n	Thursday\, June 14\, 2012 - 8:00am - 3:30pm\n\n	\n\n	Ask Alternative View questions. Our ladies will be happy to help you!\n\n	Help save our environment
X-ALT-DESC;FMTTYPE=text/html:<div style="text-align: center">\n	<span style="font-family: verdana"><strong><span style="font-size: 14px">Come&nbsp\;get your<span style="font-size: 16px"> </span></span><span style="font-size: 16px"><span style="color: #ff0000">Windshield Repaired </span>and&nbsp\;</span><span style="font-size: 14px">your </span><span style="font-size: 16px"><span style="color: #ff0000">Headlights Restored </span></span><em><span style="font-size: 14px">while you work</span></em><span style="font-size: 14px">.</span></strong><br />\n	<br />\n	<span style="font-size: 14px"><span style="font-size: 16px">Thursday\, June 14\, 2012 - 8:00am - 3:30pm</span><br />\n	<br />\n	<strong>Ask <span style="font-size: 16px"><em><span style="color: #800080">Alternative View </span></em></span>questions. <span style="color: #800080">Our ladies will be happy to help you!</span></strong><br />\n	<span style="font-size: 12px"><span style="color: #008000">Help save our environment</span></span></span></span></div>\n
LOCATION:Ten West at Westmoor 10155 Westmoor Cir Broomfield\, CO 80021
UID:e.641.4276
SEQUENCE:3
DTSTAMP:20260419T144319Z
URL:http://business.broomfieldchamber.com/events/details/a-day-with-alternative-view-06-14-2012-4276
END:VEVENT

END:VCALENDAR
