BEGIN:VCALENDAR
VERSION:2.0
PRODID:-//ChamberMaster//Event Calendar 2.0//EN
METHOD:PUBLISH
X-PUBLISHED-TTL:P3D
REFRESH-INTERVAL:P3D
CALSCALE:GREGORIAN
BEGIN:VEVENT
DTSTART:20120324T010000Z
DTEND:20120324T040000Z
X-MICROSOFT-CDO-ALLDAYEVENT:FALSE
SUMMARY:A Night at the Races Benefiting CASA of Adams & Broomfield Counties
DESCRIPTION:Join us for a night at the races and enjoy fabulous food\, beverages\, music and exciting races for fantastic prizes!\n\n\n\nAttire is derby formal with prizes being awarded for best male and female ensemble.\n\n\n\nCreativity is encouraged.\n\n\n\nAll proceeds will aid CASA of Adams & Broomfield Counties in its fight against child abuse.
X-ALT-DESC;FMTTYPE=text/html:Join us for a night at the races and enjoy fabulous food\, beverages\, music and exciting races for fantastic prizes!<br />\n<br />\nAttire is derby formal with prizes being awarded for best male and female ensemble.<br />\n<br />\nCreativity is encouraged.<br />\n<br />\nAll proceeds will aid CASA of Adams &amp\; Broomfield Counties in its fight against child abuse.
LOCATION:aLoft Hotel 8300 Arista Place Broomfield\, CO
UID:e.641.3229
SEQUENCE:3
DTSTAMP:20260419T193636Z
URL:http://business.broomfieldchamber.com/events/details/a-night-at-the-races-benefiting-casa-of-adams-broomfield-counties-03-23-2012-3229
END:VEVENT

END:VCALENDAR
