BEGIN:VCALENDAR
VERSION:2.0
PRODID:-//ChamberMaster//Event Calendar 2.0//EN
METHOD:PUBLISH
X-PUBLISHED-TTL:P3D
REFRESH-INTERVAL:P3D
CALSCALE:GREGORIAN
BEGIN:VEVENT
DTSTART:20101030T000000Z
DTEND:20101030T040000Z
X-MICROSOFT-CDO-ALLDAYEVENT:FALSE
SUMMARY:A Precious Child's "Odyssey 2010 Goes Hollywood" Gala
DESCRIPTION:A Precious Child and the Rotary Club of Broomfield Crossing present\n\n"Odyssey 2010 goes Hollywood"\n\n\n\nWine\, Dine\, Dance and Donate to help local children and seniors in need!\n\n\n\nBlack Tie Optional\n\n\n\nFriday October 29\, 2010\n\n6:00 - 10:00 pm\n\n\n\n$100 per guest\n\nFor more information or to purchase tickets contact a Broomfield Crossing Rotarian at 303-4547-4238 or A Precious Child at 303-466-4272 or www.APreciousChild.org\n\n\n\nTo become an Event Sponsor and/or to attend our event go to:\n\nwww.apreciouschild.org
X-ALT-DESC;FMTTYPE=text/html:<em><strong>A Precious Child and the Rotary Club of Broomfield Crossing present<br />\n&quot\;Odyssey 2010 goes Hollywood&quot\;</strong></em><br />\n<br />\n<span style="font-size: 14px"><strong>Wine\, Dine\, Dance and Donate to help local children and seniors in need!</strong></span><br />\n<br />\nBlack Tie Optional<br />\n<br />\nFriday October 29\, 2010<br />\n6:00 - 10:00 pm<br />\n<br />\n$100 per guest<br />\nFor more information or to purchase tickets contact a Broomfield Crossing Rotarian at 303-4547-4238 or A Precious Child at 303-466-4272 or <a href="http://www.APreciousChild.org">www.APreciousChild.org</a><br />\n<br />\nTo become an Event Sponsor and/or to attend our event go to:<br />\nwww.apreciouschild.org<br />\n
LOCATION:OMNI Interlocken Resort Hotel 500 Interlocken Blvd. Broomfield\, CO 80021
UID:e.641.1194
SEQUENCE:3
DTSTAMP:20260420T202511Z
URL:http://business.broomfieldchamber.com/events/details/a-precious-child-s-odyssey-2010-goes-hollywood-gala-10-29-2010-1194
END:VEVENT

END:VCALENDAR
