BEGIN:VCALENDAR
VERSION:2.0
PRODID:-//ChamberMaster//Event Calendar 2.0//EN
METHOD:PUBLISH
X-PUBLISHED-TTL:P3D
REFRESH-INTERVAL:P3D
CALSCALE:GREGORIAN
BEGIN:VEVENT
DTSTART:20110615T172000Z
DTEND:20110615T181500Z
X-MICROSOFT-CDO-ALLDAYEVENT:FALSE
SUMMARY:A Walk in the Art
DESCRIPTION:Join in on the Healthy Broomfield initiative while enjoying diverse works of art! \n\n	A guided walk will take place\n\n	Wednesday June 15\n\n	Meet in front of the Mamie Doud Eisenhower Public Library (MDE) at 11:20 am.\n\n	The walk is approximately one mile and will take about 45 minutes.\n\n	Bring a lunch to enjoy in the park afterward.
X-ALT-DESC;FMTTYPE=text/html:<font face="BodoniMT" size="5"><font face="BodoniMT" size="5">Join in on the Healthy Broomfield initiative while enjoying diverse works of art!</font></font><font color="#d64627" face="BodoniMT" size="4"><font color="#d64627" face="BodoniMT" size="4"><font color="#d64627" face="BodoniMT" size="4"> </font></font></font>\n<p align="left">\n	<font color="#d64627" face="BodoniMT" size="4"><font color="#d64627" face="BodoniMT" size="4"><font color="#d64627" face="BodoniMT" size="4">A guided walk will take place</font></font></font></p>\n<p align="left">\n	<font color="#006fa5" face="BodoniMT" size="5"><font color="#006fa5" face="BodoniMT" size="5"><font color="#006fa5" face="BodoniMT" size="5">Wednesday June 15</font></font></font></p>\n<p align="left">\n	<font color="#d64627" face="BodoniMT" size="4"><font color="#d64627" face="BodoniMT" size="4"><font color="#d64627" face="BodoniMT" size="4">Meet in front of the Mamie Doud Eisenhower Public Library (MDE) at 11:20 am.</font></font></font></p>\n<p align="left">\n	<font color="#d64627" face="BodoniMT" size="4"><font color="#d64627" face="BodoniMT" size="4"><font color="#d64627" face="BodoniMT" size="4">The walk is approximately one mile and will take about 45 minutes.</font></font></font></p>\n<p align="left">\n	<font color="#d64627" face="BodoniMT" size="4"><font color="#d64627" face="BodoniMT" size="4"><font color="#d64627" face="BodoniMT" size="4">Bring a lunch to enjoy in the park afterward.</font></font></font></p>\n
LOCATION:Mamie Doud Eisenhower Public Library and surrounding area
UID:e.641.1465
SEQUENCE:3
DTSTAMP:20260420T063450Z
URL:http://business.broomfieldchamber.com/events/details/a-walk-in-the-art-06-15-2011-1465
END:VEVENT

END:VCALENDAR
