BEGIN:VCALENDAR
VERSION:2.0
PRODID:-//ChamberMaster//Event Calendar 2.0//EN
METHOD:PUBLISH
X-PUBLISHED-TTL:P3D
REFRESH-INTERVAL:P3D
CALSCALE:GREGORIAN
BEGIN:VEVENT
DTSTART:20110810T171500Z
DTEND:20110810T180000Z
X-MICROSOFT-CDO-ALLDAYEVENT:FALSE
SUMMARY:A Walk in the Art
DESCRIPTION:Join in on the Healthy\n\nBroomfield initiative while\n\nenjoying diverse works of art!\n\nMeet in front of the Mamie Doud\n\nEisenhower Public Library (MDE) at\n\n11:20 am.\n\nThe walk is approximately one mile\n\nand will take about 45 minutes.\n\nBring a lunch to enjoy in the park\n\nafterward.
X-ALT-DESC;FMTTYPE=text/html:Join in on the Healthy<br />\nBroomfield initiative while<br />\nenjoying diverse works of art!<br />\nMeet in front of the Mamie Doud<br />\nEisenhower Public Library (MDE) at<br />\n11:20 am.<br />\nThe walk is approximately one mile<br />\nand will take about 45 minutes.<br />\nBring a lunch to enjoy in the park<br />\nafterward.
LOCATION:Mamie Doud Eisenhower Public Library
UID:e.641.2874
SEQUENCE:3
DTSTAMP:20260420T050710Z
URL:http://business.broomfieldchamber.com/events/details/a-walk-in-the-art-08-10-2011-2874
END:VEVENT

END:VCALENDAR
