BEGIN:VCALENDAR
VERSION:2.0
PRODID:-//ChamberMaster//Event Calendar 2.0//EN
METHOD:PUBLISH
X-PUBLISHED-TTL:P3D
REFRESH-INTERVAL:P3D
CALSCALE:GREGORIAN
BEGIN:VEVENT
DTSTART:20110625T220000Z
DTEND:20110625T230000Z
X-MICROSOFT-CDO-ALLDAYEVENT:FALSE
SUMMARY:Accordiana IV
DESCRIPTION:Celebrate National Accordion Month!\n\n	John Heins\, accordionist\, will play numerous solo selections featuring polkas\, waltzes\, folk tunes and old standards. He will then be joined by Marilyn Nelson\, pianist\, for several selections. Also\, friends Bob Juenemann\, guitar\, and Todd McCrory\, cello\, will join him in a couple of numbers.\n\n	720-887-2371\n\n	Tickets $5
X-ALT-DESC;FMTTYPE=text/html:<p align="left" class="normal-p" style="text-align: left\; margin: 0pt\; tab-stops: 398.65pt">\n	<b style="mso-bidi-font-weight: normal"><span style="font-family: arial"><font size="3"><font color="#000000">Celebrate National Accordion Month!<o:p></o:p></font></font></span></b></p>\n<p align="left" class="normal-p" style="text-align: left\; margin: 0pt\; tab-stops: 398.65pt">\n	<span style="font-family: arial"><font size="3"><font color="#000000">John Heins\, accordionist\,&nbsp\;will play numerous solo selections featuring polkas\, waltzes\, folk tunes&nbsp\;and old standards. He will then be joined by Marilyn Nelson\, pianist\, for several selections. Also\, friends Bob Juenemann\, guitar\, and Todd McCrory\, cello\, will join&nbsp\;him in a couple of numbers.<b style="mso-bidi-font-weight: normal"><o:p></o:p></b></font></font></span></p>\n<p align="left" class="normal-p" style="text-align: left\; margin: 0pt\; tab-stops: 398.65pt">\n	<st1:phone o_x003a_ls="trans" phonenumber="$6887$$$"><b style="mso-bidi-font-weight: normal"><span style="font-family: arial"><font color="#000000" size="3">720-887-2371<br />\n	Tickets $5</font></span></b></st1:phone></p>\n
LOCATION:Broomfield Auditorium
UID:e.641.1466
SEQUENCE:3
DTSTAMP:20260420T063628Z
URL:http://business.broomfieldchamber.com/events/details/accordiana-iv-06-25-2011-1466
END:VEVENT

END:VCALENDAR
