BEGIN:VCALENDAR
VERSION:2.0
PRODID:-//ChamberMaster//Event Calendar 2.0//EN
METHOD:PUBLISH
X-PUBLISHED-TTL:P3D
REFRESH-INTERVAL:P3D
CALSCALE:GREGORIAN
BEGIN:VEVENT
DTSTART:20100430T000000Z
DTEND:20100430T033000Z
X-MICROSOFT-CDO-ALLDAYEVENT:FALSE
SUMMARY:Action Coach - Business is Booming with Special Guest Brad Sugars
DESCRIPTION:Attention Business Owners. You don't want to miss out on this free event! This is your FREE PASS to spend an evening with the World?s #1 Business Coach Brad Sugars\n\nCome learn 28 proven and successful business strategies to massively grow your business\, and establish your vision and drive to take your business to the next level\, including:\n\n? How to multiply the number of customers\, revenues & profits\n\n? How to master your profit margins ? How to take immediate control of your cash flow  ? How to retain customers for 2-3 times longer than you can today  ? How to avoid 4 common mistakes in advertising ? How to manage your team in a downturn and keep them motivated\n\n? How to map out a plan for the next quarter and much more?\n\n\n\nWhen: Thursday\, April 29th\, 2010\n\nWhere: The Colorado Convention Center\n\nTime: 6:00 p.m. Networking\, 6:30-9:30 Presentation\n\n\n\nThe Business Is Booming Tour is an ?Invitation Only? event.   A limited number of places are available\, and demand will be high You must RSVP NOW to avoid missing out.\n\nPlease register with ticket code JDC01 below at:\n\nhttp://www.businessisboomingtour.com/register.html
X-ALT-DESC;FMTTYPE=text/html:Attention Business Owners. You don't want to miss out on this free event! This is your FREE PASS to spend an evening with the World?s #1 Business Coach Brad Sugars\n<br>Come learn 28 proven and successful business strategies to massively grow your business\, and establish your vision and drive to take your business to the next level\, including:\n<br>? How to multiply the number of customers\, revenues &amp\; profits\n<br>? How to master your profit margins ? How to take immediate control of your cash flow  ? How to retain customers for 2-3 times longer than you can today  ? How to avoid 4 common mistakes in advertising ? How to manage your team in a downturn and keep them motivated\n<br>? How to map out a plan for the next quarter and much more?\n<br>\n<br>When: Thursday\, April 29th\, 2010\n<br>Where: The Colorado Convention Center\n<br>Time: 6:00 p.m. Networking\, 6:30-9:30 Presentation\n<br>\n<br>The Business Is Booming Tour is an ?Invitation Only? event.   A limited number of places are available\, and demand will be high You must RSVP NOW to avoid missing out.\n<br>Please register with ticket code JDC01 below at:\n<br>http://www.businessisboomingtour.com/register.html\n<br>
LOCATION:Colorado Convention Center
UID:e.641.600
SEQUENCE:3
DTSTAMP:20260421T040829Z
URL:http://business.broomfieldchamber.com/events/details/action-coach-business-is-booming-with-special-guest-brad-sugars-04-29-2010-600
END:VEVENT

END:VCALENDAR
