BEGIN:VCALENDAR
VERSION:2.0
PRODID:-//ChamberMaster//Event Calendar 2.0//EN
METHOD:PUBLISH
X-PUBLISHED-TTL:P3D
REFRESH-INTERVAL:P3D
CALSCALE:GREGORIAN
BEGIN:VEVENT
DTSTART:20111029T230000Z
DTEND:20111030T001500Z
X-MICROSOFT-CDO-ALLDAYEVENT:FALSE
SUMMARY:Adult wellness group for sufferers of chronic pain and headaches
DESCRIPTION:Tonia Sabo\, MD (Child Neurologist and Headache Specialist) leads this group designed to help adults  communicate about their experiences with headache and pain. Draw/Art Therapy\, guided stretching and music therapy integrated to experience alternative health welnness related coping skills.\n\n\n\nGroup limited to 10 adults. Please email drsabo@colroadomigraine.com to reserve a spot. Bi Monthly Sunday sessions.\n\n\n\n\n\nYoga\, aromatherapists\, meditation leaders are welcome to signup to lead a session.
X-ALT-DESC;FMTTYPE=text/html:Tonia Sabo\, MD (Child Neurologist and Headache Specialist) leads this group designed to help adults &nbsp\;communicate about their experiences with headache and pain. Draw/Art Therapy\, guided stretching and music therapy integrated to experience alternative health welnness related coping skills.<br />\n<br />\nGroup limited to 10 adults. Please email drsabo@colroadomigraine.com to reserve a spot. Bi Monthly Sunday sessions.<br />\n<br />\n<br />\nYoga\, aromatherapists\, meditation leaders are welcome to signup to lead a session.&nbsp\;
LOCATION:340 E 1st Ave Suite 205 Broomfield\, Co 80020
UID:e.641.3088
SEQUENCE:3
DTSTAMP:20260420T010835Z
URL:http://business.broomfieldchamber.com/events/details/adult-wellness-group-for-sufferers-of-chronic-pain-and-headaches-10-29-2011-3088
END:VEVENT

END:VCALENDAR
