BEGIN:VCALENDAR
VERSION:2.0
PRODID:-//ChamberMaster//Event Calendar 2.0//EN
METHOD:PUBLISH
X-PUBLISHED-TTL:P3D
REFRESH-INTERVAL:P3D
CALSCALE:GREGORIAN
BEGIN:VEVENT
DTSTART:20120619T150000Z
DTEND:20120619T200000Z
X-MICROSOFT-CDO-ALLDAYEVENT:FALSE
SUMMARY:Alternative View Comes To You
DESCRIPTION:Let us help you while you work.\n\n	\n\n	Headlight Restoration and Windshield Repair\n\n	by Alternative View\n\n	\n\n	Tuesday June 19\, 2012 - 9:00am - 2:00pm (later if needed)
X-ALT-DESC;FMTTYPE=text/html:<div style="text-align: center">\n	<span style="font-size: 16px"><span style="font-family: verdana"><strong>Let us help you while you work.</strong><br />\n	<br />\n	<span style="color: #ff0000">Headlight Restoration </span>and <span style="color: #ff0000">Windshield </span><span style="color: #ff0000">Repair</span><br />\n	by <span style="color: #800080">Alternative View</span><br />\n	<br />\n	<span style="color: #000000">Tuesday June 19\, 2012 - 9:00am - 2:00pm (later if needed)</span></span></span></div>\n
LOCATION:Service Magic 14023 Denver West Pkwy Golden\, CO 890401
UID:e.641.4277
SEQUENCE:3
DTSTAMP:20260419T132801Z
URL:http://business.broomfieldchamber.com/events/details/alternative-view-comes-to-you-06-19-2012-4277
END:VEVENT

END:VCALENDAR
