BEGIN:VCALENDAR
VERSION:2.0
PRODID:-//ChamberMaster//Event Calendar 2.0//EN
METHOD:PUBLISH
X-PUBLISHED-TTL:P3D
REFRESH-INTERVAL:P3D
CALSCALE:GREGORIAN
BEGIN:VEVENT
DTSTART:20100728T233000Z
DTEND:20100729T010000Z
X-MICROSOFT-CDO-ALLDAYEVENT:FALSE
SUMMARY:Animal Abuse and Domestic Violence - Evening Seminar
DESCRIPTION:Safehouse Progressive Alliance for Nonviolence (SPAN) is hosting an evening seminar addressing the connections between animal abuse and domestic violence. Panelists include SPAN staf member\, Bylo Farmer\, Human Society of Boulder Valley representative\, Catherine Casper\, and Boulder County Deputy District Attorney\, Lisa Pearson. Learn about "Safe Pet Program"\, resources for domestic violence survivors concerned about their pets\, and Colorado laws addressing animal abuse and domestic violence.
X-ALT-DESC;FMTTYPE=text/html:Safehouse Progressive Alliance for Nonviolence (SPAN) is hosting an evening seminar addressing the connections between animal abuse and domestic violence. Panelists include SPAN staf member\, Bylo Farmer\, Human Society of Boulder Valley representative\, Catherine Casper\, and Boulder County Deputy District Attorney\, Lisa Pearson. Learn about "Safe Pet Program"\, resources for domestic violence survivors concerned about their pets\, and Colorado laws addressing animal abuse and domestic violence.
LOCATION:SPAN Outreach Center: 835 North Street\, Boulder 80304
UID:e.641.1126
SEQUENCE:3
DTSTAMP:20260420T233413Z
URL:http://business.broomfieldchamber.com/events/details/animal-abuse-and-domestic-violence-evening-seminar-07-28-2010-1126
END:VEVENT

END:VCALENDAR
