BEGIN:VCALENDAR
VERSION:2.0
PRODID:-//ChamberMaster//Event Calendar 2.0//EN
METHOD:PUBLISH
X-PUBLISHED-TTL:P3D
REFRESH-INTERVAL:P3D
CALSCALE:GREGORIAN
BEGIN:VEVENT
DTSTART:20100507T233000Z
DTEND:20100508T020000Z
X-MICROSOFT-CDO-ALLDAYEVENT:FALSE
SUMMARY:Annual Basket Auction For Meals-on-Wheels
DESCRIPTION:Make sure you mark your calendars for Friday\, May 7th.. On that night Senior Services will be holding their 10th annual Basket Auction benefiting Meals-on Wheels. If you have attended this event in the past\, you know it is a must attend event. \n\n\n\nThe time of the event is 6:00 - 8:00 p.m.. Registration begins at 5:30 p.m.. Bring your family and friends. Admission is free and you just might come home with a dream basket.
X-ALT-DESC;FMTTYPE=text/html:Make sure you mark your calendars for Friday\, May 7th.. On that night Senior Services will be holding their 10th annual Basket Auction benefiting Meals-on Wheels. If you have attended this event in the past\, you know it is a must attend event. \n<br>\n<br>The time of the event is 6:00 - 8:00 p.m.. Registration begins at 5:30 p.m.. Bring your family and friends. Admission is free and you just might come home with a dream basket.
LOCATION:Broomfield Community Center 280 Lamar Street Broomfield Colorado 80020
UID:e.641.1053
SEQUENCE:3
DTSTAMP:20260421T024943Z
URL:http://business.broomfieldchamber.com/events/details/annual-basket-auction-for-meals-on-wheels-05-07-2010-1053
END:VEVENT

END:VCALENDAR
