BEGIN:VCALENDAR
VERSION:2.0
PRODID:-//ChamberMaster//Event Calendar 2.0//EN
METHOD:PUBLISH
X-PUBLISHED-TTL:P3D
REFRESH-INTERVAL:P3D
CALSCALE:GREGORIAN
BEGIN:VEVENT
DTSTART:20080124T070000Z
DTEND:20080124T070000Z
X-MICROSOFT-CDO-ALLDAYEVENT:FALSE
SUMMARY:Annual Meeting 2008
DESCRIPTION:
X-ALT-DESC;FMTTYPE=text/html:
LOCATION:Renaissance Suites
UID:e.641.393
SEQUENCE:3
DTSTAMP:20260423T001013Z
URL:http://business.broomfieldchamber.com/events/details/annual-meeting-2008-01-24-2008-393
END:VEVENT

END:VCALENDAR
