BEGIN:VCALENDAR
VERSION:2.0
PRODID:-//ChamberMaster//Event Calendar 2.0//EN
METHOD:PUBLISH
X-PUBLISHED-TTL:P3D
REFRESH-INTERVAL:P3D
CALSCALE:GREGORIAN
BEGIN:VEVENT
DTSTART;VALUE=DATE:20110526
DTEND;VALUE=DATE:20110527
TRANSP:TRANSPARENT
X-MICROSOFT-CDO-ALLDAYEVENT:TRUE
SUMMARY:Anti Aging Event at Caring Facial Massage and More
DESCRIPTION:Caring Facial is hosting a VIP EVENT\n\nMay 26\, 2011  8:00 am to 8:00pm\n\nANTI AGING with advanced technology!\n\nNO DOWN TIME\n\nCall for an appointment 303-525-1985\n\nReceive your FREE half hour treatment!
X-ALT-DESC;FMTTYPE=text/html:<span style="font-family: verdana\;"><span style="color: rgb(0\, 0\, 255)\;">Caring Facial is hosting a <em>VIP EVENT</em><br />\nMay 26\, 2011&nbsp\; 8:00 am to 8:00pm<br />\n<em>ANTI AGING</em> with advanced technology!<br />\n<em>NO DOWN TIME</em><br />\nCall for an appointment 303-525-1985<br />\nReceive your <em>FREE</em> half hour treatment!</span></span>
LOCATION:253 Ouray Avenue Broomfield\, Co 80020
UID:e.641.1477
SEQUENCE:3
DTSTAMP:20260420T093636Z
URL:http://business.broomfieldchamber.com/events/details/anti-aging-event-at-caring-facial-massage-and-more-05-26-2011-1477
END:VEVENT

END:VCALENDAR
