BEGIN:VCALENDAR
VERSION:2.0
PRODID:-//ChamberMaster//Event Calendar 2.0//EN
METHOD:PUBLISH
X-PUBLISHED-TTL:P3D
REFRESH-INTERVAL:P3D
CALSCALE:GREGORIAN
BEGIN:VEVENT
DTSTART:20110225T200000Z
DTEND:20110225T230000Z
X-MICROSOFT-CDO-ALLDAYEVENT:FALSE
SUMMARY:Antique Appraisal Fair
DESCRIPTION:Join us for a free appraisal of your treasured possessions whether you found it at a garage sale\, or it was your great-grandmothers. You'll learn if your treasure is worth more than you think or if it has just sentimental value. Appraisers who are well-known in the Denver area for their antique and collectibles expertise will entertain you\, as well as evaluate your items. Appraisals will be market value only (not for insurance).\n\n2-3 hand carried items person. No firearms\, please.
X-ALT-DESC;FMTTYPE=text/html:Join us for a free appraisal of your treasured possessions whether you found it at a garage sale\, or it was your great-grandmothers. You'll learn if your treasure is worth more than you think or if it has just sentimental value. Appraisers who are well-known in the Denver area for their antique and collectibles expertise will entertain you\, as well as evaluate your items. Appraisals will be market value only (not for insurance).\n<br>2-3 hand carried items person. No firearms\, please.\n<br>\n<br>
LOCATION:The Stratford at Flatirons 400 Summit Blvd\, Broomfield\, CO 80021
UID:e.641.1303
SEQUENCE:3
DTSTAMP:20260420T124910Z
URL:http://business.broomfieldchamber.com/events/details/antique-appraisal-fair-02-25-2011-1303
END:VEVENT

END:VCALENDAR
