BEGIN:VCALENDAR
VERSION:2.0
PRODID:-//ChamberMaster//Event Calendar 2.0//EN
METHOD:PUBLISH
X-PUBLISHED-TTL:P3D
REFRESH-INTERVAL:P3D
CALSCALE:GREGORIAN
BEGIN:VEVENT
DTSTART:20111016T230000Z
DTEND:20111017T020000Z
X-MICROSOFT-CDO-ALLDAYEVENT:FALSE
SUMMARY:Arby's Dining to End Domestic Violence
DESCRIPTION:Dine at Arby's on October 16\, 5-8PM. Present the flyer and Arby's will donate 20% of their proceeds to us!\n\n\nOctober is Domestic Violence Awareness Month\, and on behalf of Safehouse Progressive Alliance for Nonviolence (SPAN)\, We are pleased to invite you to be a part of Dining to End Domestic Violence. This month-long series of fundraising events will support services for domestic violence survivors and their children in Boulder and Broomfield Counties.\n\n\n\nSince 1979 SPAN has been providing healing\, hope and opportunity to adults and children who are impacted by abuse. Our Domestic Violence Awareness Month events are a critical component to raising the funds needed to provide safe\, confidential emergency shelter\, counseling\, legal advocacy and more to hundreds of people each year. These services are changing lives\, even saving lives right here in our own community!\n\nAll proceeds support the Safehouse Progressive Alliance for Nonviolence.
X-ALT-DESC;FMTTYPE=text/html:<h4>\n	Dine at Arby&#39\;s on October 16\, 5-8PM.&nbsp\;Present the flyer&nbsp\;and Arby&#39\;s will donate 20% of their proceeds to us!</h4>\n<br />\nOctober is Domestic Violence Awareness Month\, and on behalf of Safehouse Progressive Alliance for Nonviolence (SPAN)\, We are pleased to invite you to be a part of Dining to End Domestic Violence. This month-long series of fundraising events will support services for domestic violence survivors and their children in Boulder and Broomfield Counties.<br />\n<br />\nSince 1979 SPAN has been providing healing\, hope and opportunity to adults and children who are impacted by abuse. Our Domestic Violence Awareness Month events are a critical component to raising the funds needed to provide safe\, confidential emergency shelter\, counseling\, legal advocacy and more to hundreds of people each year. These services are changing lives\, even saving lives right here in our own community!<br />\nAll proceeds support the Safehouse Progressive Alliance for Nonviolence.<br />\n
LOCATION:2420 Baseline Boulder\, CO
UID:e.641.3065
SEQUENCE:3
DTSTAMP:20260420T005318Z
URL:http://business.broomfieldchamber.com/events/details/arby-s-dining-to-end-domestic-violence-10-16-2011-3065
END:VEVENT

END:VCALENDAR
