BEGIN:VCALENDAR
VERSION:2.0
PRODID:-//ChamberMaster//Event Calendar 2.0//EN
METHOD:PUBLISH
X-PUBLISHED-TTL:P3D
REFRESH-INTERVAL:P3D
CALSCALE:GREGORIAN
BEGIN:VEVENT
DTSTART:20110410T020000Z
DTEND:20110410T020000Z
X-MICROSOFT-CDO-ALLDAYEVENT:FALSE
SUMMARY:Arcade Fire Concert @ 1STBANK Center
DESCRIPTION:
X-ALT-DESC;FMTTYPE=text/html:
LOCATION:1STBANK Center
UID:e.641.1396
SEQUENCE:3
DTSTAMP:20260420T093509Z
URL:http://business.broomfieldchamber.com/events/details/arcade-fire-concert-1stbank-center-04-09-2011-1396
END:VEVENT

END:VCALENDAR
