BEGIN:VCALENDAR
VERSION:2.0
PRODID:-//ChamberMaster//Event Calendar 2.0//EN
METHOD:PUBLISH
X-PUBLISHED-TTL:P3D
REFRESH-INTERVAL:P3D
CALSCALE:GREGORIAN
BEGIN:VEVENT
DTSTART:20100914T180000Z
DTEND:20101005T190000Z
X-MICROSOFT-CDO-ALLDAYEVENT:FALSE
SUMMARY:Aricia LaFrance Coaching> How to Attract the Clients You Love
DESCRIPTION:How much time & money do you waste on ineffective marketing?  In my 4 week telepod\, How to Attract the Clients You Love\, you'll learn how to attract ideal clients & turn them into your biggest fans.   Great bonuses & a money back guarantee.  Join us by phone from anywhere on the planet.  Learn more & sign up at: http://bit.ly/aY60VP\n\n\n\nAricia LaFrance is a psychotherapist specializing in psychological marketing.
X-ALT-DESC;FMTTYPE=text/html:How much time &amp\; money do you waste on ineffective marketing?  In my 4 week telepod\, How to Attract the Clients You Love\, you'll learn how to attract ideal clients &amp\; turn them into your biggest fans.   Great bonuses &amp\; a money back guarantee.  Join us by phone from anywhere on the planet.  Learn more &amp\; sign up at: http://bit.ly/aY60VP\n<br>\n<br>Aricia LaFrance is a psychotherapist specializing in psychological marketing.
LOCATION:Call in from anywhere.
UID:e.641.1177
SEQUENCE:3
DTSTAMP:20260420T202735Z
URL:http://business.broomfieldchamber.com/events/details/aricia-lafrance-coaching-how-to-attract-the-clients-you-love-09-14-2010-1177
END:VEVENT

END:VCALENDAR
