BEGIN:VCALENDAR
VERSION:2.0
PRODID:-//ChamberMaster//Event Calendar 2.0//EN
METHOD:PUBLISH
X-PUBLISHED-TTL:P3D
REFRESH-INTERVAL:P3D
CALSCALE:GREGORIAN
BEGIN:VEVENT
DTSTART:20120519T140000Z
DTEND:20120519T163000Z
X-MICROSOFT-CDO-ALLDAYEVENT:FALSE
SUMMARY:Armed Forces Tribute Garden Pancake Breakfast
DESCRIPTION:Free pancake breakfast to benefit the Westminster Armed Forces Tribute Garden.
X-ALT-DESC;FMTTYPE=text/html:<br />\n<span style="font-size: 16px"><span style="font-family: verdana">Free pancake breakfast to benefit the Westminster Armed Forces Tribute Garden.</span></span><br />\n<br />\n
LOCATION:Valley Bank & Trust at 11145 Sheridan Blvd.
UID:e.641.4159
SEQUENCE:3
DTSTAMP:20260419T144448Z
URL:http://business.broomfieldchamber.com/events/details/armed-forces-tribute-garden-pancake-breakfast-05-19-2012-4159
END:VEVENT

END:VCALENDAR
