BEGIN:VCALENDAR
VERSION:2.0
PRODID:-//ChamberMaster//Event Calendar 2.0//EN
METHOD:PUBLISH
X-PUBLISHED-TTL:P3D
REFRESH-INTERVAL:P3D
CALSCALE:GREGORIAN
BEGIN:VEVENT
DTSTART:20111020T233000Z
DTEND:20111021T023000Z
X-MICROSOFT-CDO-ALLDAYEVENT:FALSE
SUMMARY:Art at the Creek
DESCRIPTION:Art at the Creek is featuring local artis\, Besty Anderson\, on Thursday evening\, October 20th between the hours of 5:30pm and 8:30pm.\n\nShe would like people to enjoy her paintings as they would poetry or music.\n\nThe symbolism\, tone and mood are open to interpretation.\n\nCome and enjoy the evening with us.\n\nRefreshments will be served.\n\nWe will also be celebrating our Anniversary and offering 20% off all merchandise through Monday\, 10-24-11.
X-ALT-DESC;FMTTYPE=text/html:Art at the Creek is featuring local artis\, Besty Anderson\, on Thursday evening\, October 20th between the hours of 5:30pm and 8:30pm.<br />\nShe would like people to enjoy her paintings as they would poetry or music.<br />\nThe symbolism\, tone and mood are open to interpretation.<br />\nCome and enjoy the evening with us.<br />\nRefreshments will be served.<br />\nWe will also be celebrating our Anniversary and offering 20% off all merchandise through Monday\, 10-24-11.
LOCATION:Coldwater Creek/Flatirons mall.
UID:e.641.3091
SEQUENCE:3
DTSTAMP:20260420T005421Z
URL:http://business.broomfieldchamber.com/events/details/art-at-the-creek-10-20-2011-3091
END:VEVENT

END:VCALENDAR
