BEGIN:VCALENDAR
VERSION:2.0
PRODID:-//ChamberMaster//Event Calendar 2.0//EN
METHOD:PUBLISH
X-PUBLISHED-TTL:P3D
REFRESH-INTERVAL:P3D
CALSCALE:GREGORIAN
BEGIN:VEVENT
DTSTART;VALUE=DATE:20101120
DTEND;VALUE=DATE:20101121
TRANSP:TRANSPARENT
X-MICROSOFT-CDO-ALLDAYEVENT:TRUE
SUMMARY:Art & Gift Fair at the Stratford at Flatirons
DESCRIPTION:Holiday art and gift fair\, over 25 vendors\, garage parking
X-ALT-DESC;FMTTYPE=text/html:Holiday art and gift fair\, over 25 vendors\, garage parking
LOCATION:Stratford at Flatirons\, 400 Summit Blvd\, Broomfield 80021
UID:e.641.1244
SEQUENCE:3
DTSTAMP:20260420T173515Z
URL:http://business.broomfieldchamber.com/events/details/art-gift-fair-at-the-stratford-at-flatirons-11-20-2010-1244
END:VEVENT

END:VCALENDAR
