BEGIN:VCALENDAR
VERSION:2.0
PRODID:-//ChamberMaster//Event Calendar 2.0//EN
METHOD:PUBLISH
X-PUBLISHED-TTL:P3D
REFRESH-INTERVAL:P3D
CALSCALE:GREGORIAN
BEGIN:VEVENT
DTSTART:20110121T220000Z
DTEND:20110122T000000Z
X-MICROSOFT-CDO-ALLDAYEVENT:FALSE
SUMMARY:Artist Reception for David Griffin
DESCRIPTION:Local artist David Griffin will be featured in the Broomfield Auditorium Gallery January 7-March 4. The artist reception will be January 21 from 3-5pm.
X-ALT-DESC;FMTTYPE=text/html:Local artist David Griffin will be featured in the Broomfield Auditorium Gallery January 7-March 4. The artist reception will be January 21 from 3-5pm.
LOCATION:Broomfield Auditorium Gallery
UID:e.641.1267
SEQUENCE:3
DTSTAMP:20260420T142725Z
URL:http://business.broomfieldchamber.com/events/details/artist-reception-for-david-griffin-01-21-2011-1267
END:VEVENT

END:VCALENDAR
