BEGIN:VCALENDAR
VERSION:2.0
PRODID:-//ChamberMaster//Event Calendar 2.0//EN
METHOD:PUBLISH
X-PUBLISHED-TTL:P3D
REFRESH-INTERVAL:P3D
CALSCALE:GREGORIAN
BEGIN:VEVENT
DTSTART:20110928T220000Z
DTEND:20110929T020000Z
X-MICROSOFT-CDO-ALLDAYEVENT:FALSE
SUMMARY:ArtNight with J.D. Hillberry at SpringHill Suites
DESCRIPTION:An Evening of Inspiration with J.D. Hillberry\n\nSpringHill Suites is pleased to host a one night showcase featuring local Westminster artist\, J.D. Hillberry. J.D. Hillberry has been a professional artist for over 20 years and is one of the most well known and respected artists in his field. Best known for his trompe l'oel (fool the eye) drawings\, J.D. has won over 50 awards in nationally acclaimed art shows. His realistic drawing techniques have been taught in art schools across the world\, and in 2012 J.D. Hillberry will be teaching a series of workshops at the SpringHill Suites here in Westminster. In partnership with J.D. Hillberry\, SpringHill Suites by Marriott Westminster invites you to discover a space to inspire and celebrate our element of style through local art.\n\n\n\nComplimentary refreshments will be provided by Dave and Busters.\n\n\n\nOne of J.D. Hillberry's prints will be raffled off at the end of the night benefitting Children's Miracle Network.\n\n\n\nFind out more about the artist at http://www.jdhillberry.com/
X-ALT-DESC;FMTTYPE=text/html:<span style="font-family: verdana"><span style="font-size: 16px"><strong>An Evening of Inspiration with J.D. Hillberry</strong></span><br />\nSpringHill Suites is pleased to host a one night showcase featuring local Westminster artist\, J.D. Hillberry. J.D. Hillberry has been a professional artist for over 20 years and is one of the most well known and respected artists in his field. Best known for his trompe l&#39\;oel (fool the eye) drawings\, J.D. has won over 50 awards in nationally acclaimed art shows. His realistic drawing techniques have been taught in art schools across the world\, and in 2012 J.D. Hillberry will be teaching a series of workshops at the SpringHill Suites here in Westminster. In partnership with J.D. Hillberry\, SpringHill Suites by Marriott Westminster invites you to discover a space to inspire and celebrate our element of style through local art.<br />\n<br />\nComplimentary refreshments will be provided by Dave and Busters.<br />\n<br />\n<strong>One of J.D. Hillberry&#39\;s prints will be raffled off at the end of the night benefitting Children&#39\;s Miracle Network.</strong><br />\n<br />\nFind out more about the artist at <font face="Verdana"><a href="http://www.jdhillberry.com/">http://www.jdhillberry.com/</a></font></span>
LOCATION:SpringHill Suites by Marriott 6845 West 103rd Avenue Westminster\, CO 80021
UID:e.641.2898
SEQUENCE:3
DTSTAMP:20260420T021316Z
URL:http://business.broomfieldchamber.com/events/details/artnight-with-j-d-hillberry-at-springhill-suites-09-28-2011-2898
END:VEVENT

END:VCALENDAR
