BEGIN:VCALENDAR
VERSION:2.0
PRODID:-//ChamberMaster//Event Calendar 2.0//EN
METHOD:PUBLISH
X-PUBLISHED-TTL:P3D
REFRESH-INTERVAL:P3D
CALSCALE:GREGORIAN
BEGIN:VEVENT
DTSTART:20100924T210000Z
DTEND:20100925T000000Z
X-MICROSOFT-CDO-ALLDAYEVENT:FALSE
SUMMARY:Asian Fusion Art Reception
DESCRIPTION:Three local women artists: Roxanne Macke\, Ann Sokolovich and Shirlee Miyake show their Asian inspired art.\n\nArt pieces include the countries of Japan\, China\, India\, Thailand and others.\n\nAll three artists collaborated to do a large center art piece together of a eight panel Chinese dragon.\n\nThe show runs Through November 11.
X-ALT-DESC;FMTTYPE=text/html:Three local women artists: Roxanne Macke\, Ann Sokolovich and Shirlee Miyake show their Asian inspired art.<br />\nArt pieces include the countries of Japan\, China\, India\, Thailand and others.<br />\nAll three artists collaborated to do a large center art piece together of a eight panel Chinese dragon.<br />\nThe show runs Through November 11.<br />\n
LOCATION:Broomfield Auditorium Gallery 3 Community Park Road Broomfield CO
UID:e.641.1191
SEQUENCE:3
DTSTAMP:20260420T202332Z
URL:http://business.broomfieldchamber.com/events/details/asian-fusion-art-reception-09-24-2010-1191
END:VEVENT

END:VCALENDAR
