BEGIN:VCALENDAR
VERSION:2.0
PRODID:-//ChamberMaster//Event Calendar 2.0//EN
METHOD:PUBLISH
X-PUBLISHED-TTL:P3D
REFRESH-INTERVAL:P3D
CALSCALE:GREGORIAN
BEGIN:VEVENT
DTSTART:20110607T133000Z
DTEND:20110607T190000Z
X-MICROSOFT-CDO-ALLDAYEVENT:FALSE
SUMMARY:Avista Hospital Foundation 21st Annual Golf Classic
DESCRIPTION:We've chosen Medicine in Motion as the beneficiary of the 21st Annual Avista Hospital Golf Classic. Medicine in Motion provides urgent and preventative health care to those in need. Avista Hospital Foundation assists in the funding of the CareVan that annually treats nearly 3\,000 patients. Recently\, this program was highlighted in the Denver Post!\n\n\n\nWe encourage you to partner with us in supporting the healing care provided at our nationally recognized hospital. If you have any questions or require additional information on this important event - the only fundraising event held by Avista Adventist Hospital each year\, please contact Geoff Isaak\, director of the Avista Hospital Foundation\, at 303.715.7610.
X-ALT-DESC;FMTTYPE=text/html:We've chosen Medicine in Motion as the beneficiary of the 21st Annual Avista Hospital Golf Classic. Medicine in Motion provides urgent and preventative health care to those in need. Avista Hospital Foundation assists in the funding of the CareVan that annually treats nearly 3\,000 patients. Recently\, this program was highlighted in the Denver Post!\n<br>\n<br>We encourage you to partner with us in supporting the healing care provided at our nationally recognized hospital. If you have any questions or require additional information on this important event - the only fundraising event held by Avista Adventist Hospital each year\, please contact Geoff Isaak\, director of the Avista Hospital Foundation\, at 303.715.7610. 
LOCATION:Omni Interlocken Resort Golf Club 800 Eldorado Blvd Broomfield\, CO 80021
UID:e.641.1432
SEQUENCE:3
DTSTAMP:20260420T063831Z
URL:http://business.broomfieldchamber.com/events/details/avista-hospital-foundation-21st-annual-golf-classic-06-07-2011-1432
END:VEVENT

END:VCALENDAR
