BEGIN:VCALENDAR
VERSION:2.0
PRODID:-//ChamberMaster//Event Calendar 2.0//EN
METHOD:PUBLISH
X-PUBLISHED-TTL:P3D
REFRESH-INTERVAL:P3D
CALSCALE:GREGORIAN
BEGIN:VEVENT
DTSTART:20120605T133000Z
DTEND:20120605T203000Z
X-MICROSOFT-CDO-ALLDAYEVENT:FALSE
SUMMARY:Avista Hospital Foundation 22nd Annual Golf Classic
DESCRIPTION:Unfortunately\, there are parents who haven't been able to bring their baby home due to complications prior to or at birth. It's traumatizing and painful.\n\nThe careworkers at Avista New Life Bereavement Center are specially trained for such an occurrence. Rated top in the state of Colorado\, this team has adopted the Resolve Through Sharing (RTS) bereavement support program. This program specifically addresses perinatal loss. Most importantly they are there to provide an enriching experience while preserving the memory of the baby for hurting\, grieving parents\, which is what the funds raised will be used for.\n\n\n\nWe encourage you to partner with us in supporting the healing care provided at our nationally recognized hospital. If you have any questions or require additional information on this important event - the only fundraising event held by Avista Adventist Hospital each year\, please contact Geoff Isaak\, director of the Avista Hospital Foundation\, at 303.715.7600.
X-ALT-DESC;FMTTYPE=text/html:<span style="font-size: 14px"><span style="font-family: verdana">Unfortunately\, there are parents who haven&rsquo\;t been able to bring their baby home due to complications prior to or at birth. It&rsquo\;s traumatizing and painful.<br />\nThe careworkers at Avista New Life Bereavement Center are specially trained for such an occurrence. Rated top in the state of Colorado\, this team has adopted the Resolve Through Sharing (RTS) bereavement support program. This program specifically addresses perinatal loss. Most importantly they are there to provide an enriching experience while preserving the memory of the baby for hurting\, grieving parents\, which is what the funds raised will be used for.<br />\n<br />\nWe encourage you to partner with us in supporting the healing care provided at our nationally recognized hospital. If you have any questions or require additional information on this important event - the only fundraising event held by Avista Adventist Hospital each year\, please contact Geoff Isaak\, director of the Avista Hospital Foundation\, at 303.715.7600. </span></span>
LOCATION:Omni Interlocken Resort Golf Club
UID:e.641.3951
SEQUENCE:3
DTSTAMP:20260419T133332Z
URL:http://business.broomfieldchamber.com/events/details/avista-hospital-foundation-22nd-annual-golf-classic-06-05-2012-3951
END:VEVENT

END:VCALENDAR
