BEGIN:VCALENDAR
VERSION:2.0
PRODID:-//ChamberMaster//Event Calendar 2.0//EN
METHOD:PUBLISH
X-PUBLISHED-TTL:P3D
REFRESH-INTERVAL:P3D
CALSCALE:GREGORIAN
BEGIN:VEVENT
DTSTART:20101028T190000Z
DTEND:20101028T210000Z
X-MICROSOFT-CDO-ALLDAYEVENT:FALSE
SUMMARY:Awaken Your Business
DESCRIPTION:What: Awaken Your Business\n\n\n\nYou learn what energy of energy in your business are and what energy is affecting your results.  This discovery process will find the misalignments in your business (just like your vehicle when you and your business out of alignment you struggle to keep it on the road to success and going the direction of your goals) \n\nYou will then be guided through a process of realignment which includes forgiveness of yourself and your business (a modified Ho'oponopono process) \n\nAfter your business awakens you will notice changes in your attitude and willingness to take action right away.  Plus you will have tangible measureable results a couple weeks!!! \n\nWhen: Thursday\, October 28th\n\n\n\nTime: 1-3pm\n\n\n\nLocation: ASK Training 18 Garden Center Broomfield\, CO 80020\n\n\n\nAny questions please email Jade Jade@jadesund.com\n\nPrice: $37.00
X-ALT-DESC;FMTTYPE=text/html:What: Awaken Your Business\n<br>\n<br>You learn what energy of energy in your business are and what energy is affecting your results.  This discovery process will find the misalignments in your business (just like your vehicle when you and your business out of alignment you struggle to keep it on the road to success and going the direction of your goals) \n<br>You will then be guided through a process of realignment which includes forgiveness of yourself and your business (a modified Ho'oponopono process) \n<br>After your business awakens you will notice changes in your attitude and willingness to take action right away.  Plus you will have tangible measureable results a couple weeks!!! \n<br>When: Thursday\, October 28th\n<br>\n<br>Time: 1-3pm\n<br>\n<br>Location: ASK Training 18 Garden Center Broomfield\, CO 80020\n<br>\n<br>Any questions please email Jade Jade@jadesund.com\n<br>Price: $37.00\n<br> 
LOCATION:ASK Training 18 Garden Center Broomfield\, CO 80020
UID:e.641.1219
SEQUENCE:3
DTSTAMP:20260420T190748Z
URL:http://business.broomfieldchamber.com/events/details/awaken-your-business-10-28-2010-1219
END:VEVENT

END:VCALENDAR
