BEGIN:VCALENDAR
VERSION:2.0
PRODID:-//ChamberMaster//Event Calendar 2.0//EN
METHOD:PUBLISH
X-PUBLISHED-TTL:P3D
REFRESH-INTERVAL:P3D
CALSCALE:GREGORIAN
BEGIN:VEVENT
DTSTART:20110508T001500Z
DTEND:20110508T011500Z
X-MICROSOFT-CDO-ALLDAYEVENT:FALSE
SUMMARY:Ballet Expressions Gala Celebration
DESCRIPTION:Our Ballet Expressions dancers\, who are children physical and mental challenges\, will perform for you in our BNC Performance Theatre\, presenting both a class demonstration and their Gala dance. They will be joined on the program by our Student Company dancers\, who will perform selections from their repertoire\, as well as some upper-level students from the school. Following the performance\, enjoy refreshments\, photographs and crafts in Studio 4 to celebrate a wonderful school year along with their friends and teachers. The entire program\, including performance and celebration\, will last approximately one hour.
X-ALT-DESC;FMTTYPE=text/html:Our Ballet Expressions dancers\, who are children physical and mental challenges\, will perform for you in our BNC Performance Theatre\, presenting both a class demonstration and their Gala dance. They will be joined on the program by our Student Company dancers\, who will perform selections from their repertoire\, as well as some upper-level students from the school. Following the performance\, enjoy refreshments\, photographs and crafts in Studio 4 to celebrate a wonderful school year along with their friends and teachers. The entire program\, including performance and celebration\, will last approximately one hour.
LOCATION:Ballet Nouveau Colorado
UID:e.641.1438
SEQUENCE:3
DTSTAMP:20260420T075610Z
URL:http://business.broomfieldchamber.com/events/details/ballet-expressions-gala-celebration-05-07-2011-1438
END:VEVENT

END:VCALENDAR
