BEGIN:VCALENDAR
VERSION:2.0
PRODID:-//ChamberMaster//Event Calendar 2.0//EN
METHOD:PUBLISH
X-PUBLISHED-TTL:P3D
REFRESH-INTERVAL:P3D
CALSCALE:GREGORIAN
BEGIN:VEVENT
DTSTART:20110612T013000Z
DTEND:20110612T030000Z
X-MICROSOFT-CDO-ALLDAYEVENT:FALSE
SUMMARY:Ballet Nouveau Colorado presents Carry On
DESCRIPTION:Back by popular demand\, Ballet Nouveau Colorado will reunite with Paper Bird to present a special encore performance of Carry On - a full-length\, contemporary dance\, live music and multimedia production\, which premiered in February 2011 receiving critical acclaim and six sold out performances.\n\n\n\nWith choreography and films by BNC's artistic director\, Garrett Ammon\, and featuring live\, original music of Paper Bird\, this production exemplifies BNC's commitment to collaborating across multiple art forms with Colorado's most talented artists.\n\n\n\nPaper Bird\, one of Colorado's top bands\, composed and orchestrated all new music for this production. The performance also serves as the CD release party for the full-length\, self-released album\, also titled Carry On. The album was recorded live during the debut presentation in February.
X-ALT-DESC;FMTTYPE=text/html:<span style="font-size: 14px">Back by popular demand\, Ballet Nouveau Colorado will reunite with Paper Bird to present a special encore performance of Carry On - a full-length\, contemporary dance\, live music and multimedia production\, which premiered in February 2011 receiving critical acclaim and six sold out performances.<br />\n<br />\nWith choreography and films by BNC&#39\;s artistic director\, Garrett Ammon\, and featuring live\, original music of Paper Bird\, this production exemplifies BNC&#39\;s commitment to collaborating across multiple art forms with Colorado&#39\;s most talented artists.<br />\n<br />\nPaper Bird\, one of Colorado&#39\;s top bands\, composed and orchestrated all new music for this production. The performance also serves as the CD release party for the full-length\, self-released album\, also titled Carry On. The album was recorded live during the debut presentation in February.</span><br />\n
LOCATION:Arvada Center for the Arts and Humanities Outdoor Amphitheater 6901 Wadsworth Blvd Arvada\, CO 80003
UID:e.641.1474
SEQUENCE:3
DTSTAMP:20260420T063759Z
URL:http://business.broomfieldchamber.com/events/details/ballet-nouveau-colorado-presents-carry-on-06-11-2011-1474
END:VEVENT

END:VCALENDAR
