BEGIN:VCALENDAR
VERSION:2.0
PRODID:-//ChamberMaster//Event Calendar 2.0//EN
METHOD:PUBLISH
X-PUBLISHED-TTL:P3D
REFRESH-INTERVAL:P3D
CALSCALE:GREGORIAN
BEGIN:VEVENT
DTSTART:20111120T210000Z
DTEND:20111120T230000Z
X-MICROSOFT-CDO-ALLDAYEVENT:FALSE
SUMMARY:Ballet Nouveau Colorado's Nutcracker Tea
DESCRIPTION:Ring in the holiday season with this unforgettable family tradition with Ballet Nouveau Colorado's Nutcracker Tea.\n\n\n\nHighlights of this festive holiday event include:\n\n\n\n  Enjoy delicious holiday foods and tea with your favorite characters from the Nutcracker\n\n\n\n  Learn a dance from The Nutcracker with Clara\, the Nutcracker Prince\, the Sugar Plum Fairy and more! (Bring your cameras.)\n\n\n\n  Listen to a beautifully recited rendition of the classic story.\n\n\n\n  Automatically entered to win two tickets to BNC's rendition of The Nutcracker.\n\n\n\nEvent: Ballet Nouveau Colorado's Nutcracker Tea\n\nDate: Sunday\, November 20\, 2011\n\nTime: 2:00   4:00pm\n\nPlace: Aloft Hotel of Broomfield- 8300 Arista Pl. Broomfield\, CO 80021\n\n\n\nCost: Reservation required\n\n$30 per adult (18 yrs. & up)\n\n$25 per child (3 yrs.-17 yrs.)\n\n\n\nFor more information or to purchase tickets\, visit bncdance.com or call 303.466.5685.
X-ALT-DESC;FMTTYPE=text/html:<br />\n<strong><span style="font-size:14px\;">Ring in the holiday season with this unforgettable family tradition with Ballet Nouveau Colorado&rsquo\;s Nutcracker Tea.</span><br />\n<br />\nHighlights of this festive holiday event include:</strong><br />\n<br />\n&bull\; Enjoy delicious holiday foods and tea with your favorite characters from the Nutcracker<br />\n<br />\n&bull\; Learn a dance from The Nutcracker with Clara\, the Nutcracker Prince\, the Sugar Plum Fairy and more! (Bring your cameras.)<br />\n<br />\n&bull\; Listen to a beautifully recited rendition of the classic story.<br />\n<br />\n&bull\; Automatically entered to win two tickets to BNC&rsquo\;s rendition of The Nutcracker.<br />\n<br />\n<strong>Event</strong>: Ballet Nouveau Colorado&rsquo\;s Nutcracker Tea<br />\n<strong>Date</strong>: Sunday\, November 20\, 2011<br />\n<strong>Time</strong>: 2:00 &ndash\; 4:00pm<br />\n<strong>Place</strong>: Aloft Hotel of Broomfield- 8300 Arista Pl. Broomfield\, CO 80021<br />\n<br />\n<strong>Cost</strong>: Reservation required<br />\n$30 per adult (18 yrs. &amp\; up)<br />\n$25 per child (3 yrs.-17 yrs.)<br />\n<br />\nFor more information or to purchase tickets\, visit <strong>bncdance.com</strong> or call <strong>303.466.5685</strong>.<br />\n<br />\n<br />\n<br />\n<br />\n&nbsp\;
LOCATION:Aloft Hotel of Broomfield- 8300 Arista Pl. Broomfield\, CO 80021
UID:e.641.3090
SEQUENCE:3
DTSTAMP:20260419T235102Z
URL:http://business.broomfieldchamber.com/events/details/ballet-nouveau-colorado-s-nutcracker-tea-11-20-2011-3090
END:VEVENT

END:VCALENDAR
