BEGIN:VCALENDAR
VERSION:2.0
PRODID:-//ChamberMaster//Event Calendar 2.0//EN
METHOD:PUBLISH
X-PUBLISHED-TTL:P3D
REFRESH-INTERVAL:P3D
CALSCALE:GREGORIAN
BEGIN:VEVENT
DTSTART:20111203T170000Z
DTEND:20111203T180000Z
X-MICROSOFT-CDO-ALLDAYEVENT:FALSE
SUMMARY:Beat The Holiday Weight Gain!
DESCRIPTION:IT'S NOT TOO LATE TO TAKE CONTROL OF YOUR HEALTH AND WEIGHT THIS YEAR!\n\n\n\nJoin us for a COMPLIMENTARY ENERGY\, VITALITY\, and WEIGHT LOSS SEMINAR. This one-hour seminar will give you the tools to make it through your holiday season without gaining weight...and even see weight loss. You will also learn HOW TO SUPPORT YOUR BODY\, TRIGGER YOUR FAT BURNING HORMONES\, and the importance of SLEEP\, DIGESTION\, HORMONE BALANCE\, INFLAMMATION MANAGEMENT\, AND MORE!
X-ALT-DESC;FMTTYPE=text/html:IT&#39\;S NOT TOO LATE TO TAKE CONTROL OF YOUR HEALTH AND WEIGHT&nbsp\;THIS YEAR!<br />\n<br />\nJoin us for a COMPLIMENTARY ENERGY\, VITALITY\, and WEIGHT LOSS SEMINAR. This one-hour seminar will give you the tools to make it through your holiday season without gaining weight...and even see weight loss. You will also learn HOW TO SUPPORT YOUR BODY\, TRIGGER YOUR FAT BURNING HORMONES\, and the importance of SLEEP\, DIGESTION\, HORMONE BALANCE\, INFLAMMATION MANAGEMENT\, AND MORE!
LOCATION:54 Garden Center Broomfield\, CO 80020 (Major cross streets are Hwy 287 & Midway)
UID:e.641.3113
SEQUENCE:3
DTSTAMP:20260419T235422Z
URL:http://business.broomfieldchamber.com/events/details/beat-the-holiday-weight-gain-12-03-2011-3113
END:VEVENT

END:VCALENDAR
