BEGIN:VCALENDAR
VERSION:2.0
PRODID:-//ChamberMaster//Event Calendar 2.0//EN
METHOD:PUBLISH
X-PUBLISHED-TTL:P3D
REFRESH-INTERVAL:P3D
CALSCALE:GREGORIAN
BEGIN:VEVENT
DTSTART:20111013T000000Z
DTEND:20111013T010000Z
X-MICROSOFT-CDO-ALLDAYEVENT:FALSE
SUMMARY:Beat the Holiday Weight Gain Seminar!
DESCRIPTION:Have you met your health goals for 2011?  We are already nearing the end of the year and the holiday season.  Did you know the average person gains 7-10 pounds from Thanksgiving to New Year's?  Why not lose the weight NOW and PREVENT additional holiday weight gain?\n\n\n\nPlease join us for a COMPLIMENTARY WEIGHT LOSS SEMINAR. You are going to learn how to get your body into FAT BURNING MODE and finally lose that excess weight and keep it off! Say "no" to fad diets--learn how you can revitalize your own metabolism. Want more energy\, better brain power\, and how to regain your vitality? You won't want to miss this seminar! Seating is limited\, so you must register by calling (303) 466-3232 or by going to www.BurnFatBroomfield.com.
X-ALT-DESC;FMTTYPE=text/html:Have you met your health goals for 2011?&nbsp\; We are already nearing the end of the year and the holiday season.&nbsp\; <strong>Did you know the average person gains 7-10 pounds from Thanksgiving to New Year&#39\;s?&nbsp\;</strong> Why not lose the weight&nbsp\;NOW and PREVENT additional holiday weight gain?<br />\n<br />\nPlease join us for a COMPLIMENTARY WEIGHT LOSS SEMINAR. You are going to learn how to get your body into FAT BURNING MODE and finally lose that excess weight and keep it off! Say &quot\;no&quot\; to fad diets--learn how you can revitalize your own metabolism. Want more energy\, better brain power\, and how to regain your vitality? You won&rsquo\;t want to miss this seminar! Seating is limited\, so you must register by calling (303) 466-3232 or by going to <a href="http://www.BurnFatBroomfield.com">www.BurnFatBroomfield.com</a>.
LOCATION:54 Garden Center Broomfield\, CO 80020 (Major cross streets are Hwy 287 & Midway)
UID:e.641.2916
SEQUENCE:3
DTSTAMP:20260420T010526Z
URL:http://business.broomfieldchamber.com/events/details/beat-the-holiday-weight-gain-seminar-10-12-2011-2916
END:VEVENT

END:VCALENDAR
