BEGIN:VCALENDAR
VERSION:2.0
PRODID:-//ChamberMaster//Event Calendar 2.0//EN
METHOD:PUBLISH
X-PUBLISHED-TTL:P3D
REFRESH-INTERVAL:P3D
CALSCALE:GREGORIAN
BEGIN:VEVENT
DTSTART:20111117T010000Z
DTEND:20111117T020000Z
X-MICROSOFT-CDO-ALLDAYEVENT:FALSE
SUMMARY:Beat The Holiday Weight Gain Seminar!
DESCRIPTION:Please join us for a COMPLIMENTARY ENERGY\, VITALITY\, and WEIGHT LOSS SEMINAR. This one-hour seminar will give you the tools to make it through your holiday season without gaining weight. You will also learn HOW TO SUPPORT YOUR BODY\, TRIGGER YOUR FAT BURNING HORMONES\, and the importance of SLEEP\, DIGESTION\, HORMONE BALANCE\, INFLAMMATION MANAGEMENT\, AND MORE!\n\n\n\nYou won't want to miss this seminar! Seating is limited\, so you must register by calling (303) 466-3232 or by going to www.BurnFatBroomfield.com
X-ALT-DESC;FMTTYPE=text/html:Please join us for a COMPLIMENTARY ENERGY\, VITALITY\, and WEIGHT LOSS SEMINAR. This one-hour seminar will give you the tools to make it through your holiday season without gaining weight. You will also learn HOW TO SUPPORT YOUR BODY\, TRIGGER YOUR FAT BURNING HORMONES\, and the importance of SLEEP\, DIGESTION\, HORMONE BALANCE\, INFLAMMATION MANAGEMENT\, AND MORE!<br />\n<br />\nYou won&rsquo\;t want to miss this seminar! Seating is limited\, so you must register by calling (303) 466-3232 or by going to <a href="http://www.BurnFatBroomfield.com">www.BurnFatBroomfield.com</a>
LOCATION:54 Garden Center Broomfield\, CO 80020 (Major cross streets are Hwy 287 & Midway)
UID:e.641.3094
SEQUENCE:3
DTSTAMP:20260420T010031Z
URL:http://business.broomfieldchamber.com/events/details/beat-the-holiday-weight-gain-seminar-11-16-2011-3094
END:VEVENT

END:VCALENDAR
