BEGIN:VCALENDAR
VERSION:2.0
PRODID:-//ChamberMaster//Event Calendar 2.0//EN
METHOD:PUBLISH
X-PUBLISHED-TTL:P3D
REFRESH-INTERVAL:P3D
CALSCALE:GREGORIAN
BEGIN:VEVENT
DTSTART:20080625T060000Z
DTEND:20080625T060000Z
X-MICROSOFT-CDO-ALLDAYEVENT:FALSE
SUMMARY:Bike to Work Day 2008
DESCRIPTION:
X-ALT-DESC;FMTTYPE=text/html:
LOCATION:East Park\, Interlocken Business Park
UID:e.641.413
SEQUENCE:3
DTSTAMP:20260422T161751Z
URL:http://business.broomfieldchamber.com/events/details/bike-to-work-day-2008-06-25-2008-413
END:VEVENT

END:VCALENDAR
